Package: ADAMgui Version: 1.27.0 Maintainer: Jose Luiz Rybarczyk Filho MaintainerEmail: jose.luiz at unesp.br git_url: https://git.bioconductor.org/packages/ADAMgui git_branch: devel git_last_commit: fe6a43e git_last_commit_date: 2025-10-29 10:51:41 -0500 (Wed, 29 Oct 2025)