Package: ADAM Version: 1.27.0 Command: /home/biocbuild/bbs-3.23-bioc/R/bin/R CMD INSTALL ADAM StartedAt: 2025-11-14 15:39:54 -0500 (Fri, 14 Nov 2025) EndedAt: 2025-11-14 15:40:27 -0500 (Fri, 14 Nov 2025) EllapsedTime: 33.2 seconds RetCode: 0 Status: OK