Package: ADAM Version: 1.27.0 Command: /home/biocbuild/bbs-3.23-bioc/R/bin/R CMD build --keep-empty-dirs --no-resave-data ADAM StartedAt: 2025-11-13 16:07:45 -0500 (Thu, 13 Nov 2025) EndedAt: 2025-11-13 16:08:28 -0500 (Thu, 13 Nov 2025) EllapsedTime: 43.1 seconds RetCode: 0 Status: OK PackageFile: ADAM_1.27.0.tar.gz PackageFileSize: 321.1 KiB