Package: ADAM Version: 1.27.0 Maintainer: Jose Luiz Rybarczyk Filho MaintainerEmail: jose.luiz at unesp.br git_url: https://git.bioconductor.org/packages/ADAM git_branch: devel git_last_commit: 75224e2 git_last_commit_date: 2025-10-29 10:48:58 -0500 (Wed, 29 Oct 2025)