Package: ACME Version: 2.67.0 Command: /home/biocbuild/bbs-3.23-bioc/R/bin/R CMD INSTALL ACME StartedAt: 2025-11-14 15:13:09 -0500 (Fri, 14 Nov 2025) EndedAt: 2025-11-14 15:13:14 -0500 (Fri, 14 Nov 2025) EllapsedTime: 5.3 seconds RetCode: 0 Status: OK