Package: ACME Version: 2.67.0 Command: /Library/Frameworks/R.framework/Resources/bin/R CMD INSTALL ACME StartedAt: 2025-11-12 15:21:40 -0500 (Wed, 12 Nov 2025) EndedAt: 2025-11-12 15:21:42 -0500 (Wed, 12 Nov 2025) EllapsedTime: 2.4 seconds RetCode: 0 Status: OK