Package: ACME Version: 2.67.0 Command: rm -rf ACME.buildbin-libdir && mkdir ACME.buildbin-libdir && /Users/biocbuild/BBS/utils/build-universal.sh ACME_2.67.0.tar.gz /Library/Frameworks/R.framework/Resources/bin/R ACME.buildbin-libdir StartedAt: 2025-11-12 20:50:33 -0500 (Wed, 12 Nov 2025) EndedAt: 2025-11-12 20:50:38 -0500 (Wed, 12 Nov 2025) EllapsedTime: 5.1 seconds RetCode: 0 Status: OK PackageFile: ACME_2.67.0.tgz PackageFileSize: 10.16 MiB