Package: ACME Version: 2.67.0 Maintainer: Sean Davis MaintainerEmail: sdavis2 at mail.nih.gov git_url: https://git.bioconductor.org/packages/ACME git_branch: devel git_last_commit: 299474e git_last_commit_date: 2025-10-29 09:59:16 -0500 (Wed, 29 Oct 2025)