Package: ACE Version: 1.29.0 Command: /home/biocbuild/bbs-3.23-bioc/R/bin/R CMD build --keep-empty-dirs --no-resave-data ACE StartedAt: 2025-11-13 16:07:45 -0500 (Thu, 13 Nov 2025) EndedAt: 2025-11-13 16:08:41 -0500 (Thu, 13 Nov 2025) EllapsedTime: 56.1 seconds RetCode: 0 Status: OK PackageFile: ACE_1.29.0.tar.gz PackageFileSize: 2.522 MiB