Package: ACE Version: 1.29.0 Command: /Library/Frameworks/R.framework/Resources/bin/R CMD build --keep-empty-dirs --no-resave-data ACE StartedAt: 2025-11-12 15:46:57 -0500 (Wed, 12 Nov 2025) EndedAt: 2025-11-12 15:47:18 -0500 (Wed, 12 Nov 2025) EllapsedTime: 21.3 seconds RetCode: 0 Status: OK PackageFile: ACE_1.29.0.tar.gz PackageFileSize: 2.636 MiB