Package: ACE Version: 1.29.0 Command: rm -rf ACE.buildbin-libdir && mkdir ACE.buildbin-libdir && /Users/biocbuild/BBS/utils/build-universal.sh ACE_1.29.0.tar.gz /Library/Frameworks/R.framework/Resources/bin/R ACE.buildbin-libdir StartedAt: 2025-11-12 20:50:33 -0500 (Wed, 12 Nov 2025) EndedAt: 2025-11-12 20:50:43 -0500 (Wed, 12 Nov 2025) EllapsedTime: 10.2 seconds RetCode: 0 Status: OK PackageFile: ACE_1.29.0.tgz PackageFileSize: 2.792 MiB