Package: ACE Version: 1.29.0 Maintainer: Jos B Poell MaintainerEmail: j.poell at amsterdamumc.nl git_url: https://git.bioconductor.org/packages/ACE git_branch: devel git_last_commit: e5dde82 git_last_commit_date: 2025-10-29 10:46:24 -0500 (Wed, 29 Oct 2025)