Package: ABarray Version: 1.79.0 Command: /home/biocbuild/bbs-3.23-bioc/R/bin/R CMD INSTALL ABarray StartedAt: 2025-11-13 15:14:09 -0500 (Thu, 13 Nov 2025) EndedAt: 2025-11-13 15:14:16 -0500 (Thu, 13 Nov 2025) EllapsedTime: 7.9 seconds RetCode: 0 Status: OK