Package: ABarray Version: 1.79.0 Command: /Library/Frameworks/R.framework/Resources/bin/R CMD INSTALL ABarray StartedAt: 2025-11-14 15:08:30 -0500 (Fri, 14 Nov 2025) EndedAt: 2025-11-14 15:08:34 -0500 (Fri, 14 Nov 2025) EllapsedTime: 3.9 seconds RetCode: 0 Status: OK