Package: ABarray Version: 1.79.0 Command: /Library/Frameworks/R.framework/Resources/bin/R CMD check --install=check:ABarray.install-out.txt --library=/Library/Frameworks/R.framework/Resources/library --no-vignettes --timings ABarray_1.79.0.tar.gz StartedAt: 2025-11-14 18:21:17 -0500 (Fri, 14 Nov 2025) EndedAt: 2025-11-14 18:21:56 -0500 (Fri, 14 Nov 2025) EllapsedTime: 38.5 seconds RetCode: 0 Status: OK CheckDir: ABarray.Rcheck Warnings: 0