Package: ABarray Version: 1.79.0 Command: rm -rf ABarray.buildbin-libdir && mkdir ABarray.buildbin-libdir && /Users/biocbuild/BBS/utils/build-universal.sh ABarray_1.79.0.tar.gz /Library/Frameworks/R.framework/Resources/bin/R ABarray.buildbin-libdir StartedAt: 2025-11-14 23:21:51 -0500 (Fri, 14 Nov 2025) EndedAt: 2025-11-14 23:22:01 -0500 (Fri, 14 Nov 2025) EllapsedTime: 10.3 seconds RetCode: 0 Status: OK PackageFile: ABarray_1.79.0.tgz PackageFileSize: 748.9 KiB