Package: ABSSeq Version: 1.65.0 Command: /home/biocbuild/bbs-3.23-bioc/R/bin/R CMD INSTALL ABSSeq StartedAt: 2025-11-14 15:04:20 -0500 (Fri, 14 Nov 2025) EndedAt: 2025-11-14 15:04:40 -0500 (Fri, 14 Nov 2025) EllapsedTime: 20.4 seconds RetCode: 0 Status: OK