Package: ABSSeq Version: 1.65.0 Command: /home/biocbuild/bbs-3.23-bioc/R/bin/R CMD build --keep-empty-dirs --no-resave-data ABSSeq StartedAt: 2025-11-14 16:08:25 -0500 (Fri, 14 Nov 2025) EndedAt: 2025-11-14 16:09:34 -0500 (Fri, 14 Nov 2025) EllapsedTime: 69.1 seconds RetCode: 0 Status: OK PackageFile: ABSSeq_1.65.0.tar.gz PackageFileSize: 1.073 MiB