Package: ABSSeq Version: 1.65.0 Command: /Library/Frameworks/R.framework/Resources/bin/R CMD INSTALL ABSSeq StartedAt: 2025-11-14 15:02:39 -0500 (Fri, 14 Nov 2025) EndedAt: 2025-11-14 15:02:49 -0500 (Fri, 14 Nov 2025) EllapsedTime: 9.9 seconds RetCode: 0 Status: OK