Package: ABSSeq Version: 1.65.0 Command: /Library/Frameworks/R.framework/Resources/bin/R CMD build --keep-empty-dirs --no-resave-data ABSSeq StartedAt: 2025-11-14 15:35:21 -0500 (Fri, 14 Nov 2025) EndedAt: 2025-11-14 15:35:54 -0500 (Fri, 14 Nov 2025) EllapsedTime: 32.4 seconds RetCode: 0 Status: OK PackageFile: ABSSeq_1.65.0.tar.gz PackageFileSize: 1.073 MiB