Package: ABSSeq Version: 1.65.0 Command: rm -rf ABSSeq.buildbin-libdir && mkdir ABSSeq.buildbin-libdir && /Users/biocbuild/BBS/utils/build-universal.sh ABSSeq_1.65.0.tar.gz /Library/Frameworks/R.framework/Resources/bin/R ABSSeq.buildbin-libdir StartedAt: 2025-11-14 23:21:51 -0500 (Fri, 14 Nov 2025) EndedAt: 2025-11-14 23:21:54 -0500 (Fri, 14 Nov 2025) EllapsedTime: 3.1 seconds RetCode: 0 Status: OK PackageFile: ABSSeq_1.65.0.tgz PackageFileSize: 1.314 MiB