Package: ABSSeq Version: 1.65.0 Maintainer: Wentao Yang MaintainerEmail: wyang at zoologie.uni-kiel.de git_url: https://git.bioconductor.org/packages/ABSSeq git_branch: devel git_last_commit: 3e159b8 git_last_commit_date: 2025-10-29 10:18:51 -0500 (Wed, 29 Oct 2025)