Welcome to mirrors.dotsrc.org

All our mirrors of open source software are available via http, https, ftp and an onion service. More information about our mirrors including statistics and contact information is available on our mirror info pages.

For information about dotsrc.org and our other services please go to our website.

Index of /bioconductor/checkResults/3.23/bioc-LATEST/

File Name  ↓ File Size  ↓ Date  ↓ 
--
-2025-11-12 16:32:11
-2025-11-12 16:32:11
-2025-11-12 16:32:11
-2025-11-12 16:32:11
-2025-11-12 16:32:11
-2025-11-12 16:32:11
-2025-11-12 16:32:11
-2025-11-12 16:32:11
-2025-11-12 16:32:11
-2025-11-12 16:32:12
-2025-11-12 16:32:12
-2025-11-12 16:32:12
-2025-11-12 16:32:12
-2025-11-12 16:32:12
-2025-11-12 16:32:12
-2025-11-12 16:32:12
-2025-11-12 16:32:12
-2025-11-12 16:32:12
-2025-11-12 16:32:12
-2025-11-12 16:32:12
-2025-11-12 16:32:12
-2025-11-12 16:32:12
-2025-11-12 16:32:12
-2025-11-12 16:32:12
-2025-11-12 16:32:12
-2025-11-12 16:32:12
-2025-11-12 16:32:12
-2025-11-12 16:32:12
-2025-11-12 16:32:12
-2025-11-12 16:32:12
-2025-11-12 16:32:12
-2025-11-12 16:32:12
-2025-11-12 16:32:12
-2025-11-12 16:32:11
-2025-11-12 16:32:11
-2025-11-12 16:32:12
-2025-11-12 16:32:12
-2025-11-12 16:32:12
-2025-11-12 16:32:12
-2025-11-12 16:32:12
-2025-11-12 16:32:12
-2025-11-12 16:32:12
-2025-11-12 16:32:12
-2025-11-12 16:32:12
-2025-11-12 16:32:12
-2025-11-12 16:32:12
-2025-11-12 16:32:12
-2025-11-12 16:32:12
-2025-11-12 16:32:12
-2025-11-12 16:32:12
-2025-11-12 16:32:12
-2025-11-12 16:32:12
-2025-11-12 16:32:12
-2025-11-12 16:32:12
-2025-11-12 16:32:12
-2025-11-12 16:32:12
-2025-11-12 16:32:12
-2025-11-12 16:32:12
-2025-11-12 16:32:12
-2025-11-12 16:32:13
-2025-11-12 16:32:13
-2025-11-12 16:32:13
-2025-11-12 16:32:13
-2025-11-12 16:32:13
-2025-11-12 16:32:13
-2025-11-12 16:32:13
-2025-11-12 16:32:13
-2025-11-12 16:32:13
-2025-11-12 16:32:13
-2025-11-12 16:32:14
-2025-11-12 16:32:14
-2025-11-12 16:32:14
-2025-11-12 16:32:14
-2025-11-12 16:32:14
-2025-11-12 16:32:14
-2025-11-12 16:32:14
-2025-11-12 16:32:14
-2025-11-12 16:32:14
-2025-11-12 16:32:12
-2025-11-12 16:32:12
-2025-11-12 16:32:12
-2025-11-12 16:32:12
-2025-11-12 16:32:12
-2025-11-12 16:32:13
-2025-11-12 16:32:13
-2025-11-12 16:32:13
-2025-11-12 16:32:13
-2025-11-12 16:32:13
-2025-11-12 16:32:13
-2025-11-12 16:32:13
-2025-11-12 16:32:13
-2025-11-12 16:32:13
-2025-10-23 15:30:18
-2025-11-12 16:32:13
-2025-11-12 16:32:13
-2025-11-12 16:32:13
-2025-11-12 16:32:13
-2025-11-12 16:32:13
-2025-11-12 16:32:13
-2025-11-12 16:32:13
-2025-11-12 16:32:13
-2025-11-12 16:32:13
-2025-11-12 16:32:13
-2025-11-12 16:32:13
-2025-11-12 16:32:13
-2025-11-12 16:32:13
-2025-11-12 16:32:13
-2025-11-12 16:32:13
-2025-11-12 16:32:13
-2025-11-12 16:32:13
-2025-11-12 16:32:13
-2025-11-12 16:32:13
-2025-11-12 16:32:13
-2025-11-12 16:32:13
-2025-11-12 16:32:13
-2025-11-12 16:32:13
-2025-11-12 16:32:13
-2025-11-12 16:32:13
-2025-11-12 16:32:13
-2025-11-12 16:32:13
-2025-11-12 16:32:13
-2025-11-12 16:32:13
-2025-11-12 16:32:13
-2025-11-12 16:32:13
-2025-11-12 16:32:13
-2025-11-12 16:32:13
-2025-11-12 16:32:13
-2025-11-12 16:32:13
-2025-11-12 16:32:14
-2025-11-12 16:32:14
-2025-11-12 16:32:14
-2025-11-12 16:32:14
-2025-11-12 16:32:14
-2025-11-12 16:32:14
-2025-11-12 16:32:14
-2025-11-12 16:32:14
-2025-11-12 16:32:14
-2025-11-12 16:32:14
-2025-11-12 16:32:14
-2025-11-12 16:32:14
-2025-11-12 16:32:14
-2025-11-12 16:32:14
-2025-11-12 16:32:14
-2025-11-12 16:32:14
-2025-11-12 16:32:04
-2025-11-12 16:32:14
-2025-11-12 16:32:14
-2025-11-12 16:32:14
-2025-11-12 16:32:14
-2025-11-12 16:32:14
-2025-11-12 16:32:14
-2025-11-12 16:32:14
-2025-11-12 16:32:15
-2025-11-12 16:32:15
-2025-11-12 16:32:15
-2025-11-12 16:32:15
-2025-11-12 16:32:15
-2025-11-12 16:32:15
-2025-11-12 16:32:15
-2025-11-12 16:32:15
-2025-10-23 15:30:19
-2025-11-12 16:32:15
-2025-11-12 16:32:15
-2025-11-12 16:32:15
-2025-11-12 16:32:15
-2025-11-12 16:32:15
-2025-11-12 16:32:15
-2025-11-12 16:32:15
-2025-11-12 16:32:15
-2025-11-12 16:32:15
-2025-11-12 16:32:15
-2025-11-12 16:32:15
-2025-11-12 16:32:15
-2025-11-12 16:32:15
-2025-11-12 16:32:15
-2025-11-12 16:32:15
-2025-11-12 16:32:15
-2025-11-12 16:32:16
-2025-11-12 16:32:16
-2025-11-12 16:32:16
-2025-11-12 16:32:16
-2025-11-12 16:32:16
-2025-11-12 16:32:16
-2025-11-12 16:32:16
-2025-11-12 16:32:16
-2025-11-12 16:32:16
-2025-11-12 16:32:16
-2025-11-12 16:32:16
-2025-11-12 16:32:16
-2025-11-12 16:32:16
-2025-11-12 16:32:16
-2025-11-12 16:32:16
-2025-11-12 16:32:16
-2025-11-12 16:32:14
-2025-11-12 16:32:14
-2025-11-12 16:32:14
-2025-11-12 16:32:14
-2025-11-12 16:32:14
-2025-11-12 16:32:14
-2025-11-12 16:32:14
-2025-11-12 16:32:14
-2025-11-12 16:32:14
-2025-11-12 16:32:14
-2025-11-12 16:32:14
-2025-11-12 16:32:14
-2025-11-12 16:32:14
-2025-11-12 16:32:14
-2025-10-23 15:30:19
-2025-11-12 16:32:14
-2025-11-12 16:32:14
-2025-11-12 16:32:14
-2025-11-12 16:32:14
-2025-11-12 16:32:15
-2025-11-12 16:32:15
-2025-11-12 16:32:15
-2025-11-12 16:32:15
-2025-11-12 16:32:15
-2025-11-12 16:32:15
-2025-11-12 16:32:15
-2025-11-12 16:32:15
-2025-11-12 16:32:15
-2025-11-12 16:32:15
-2025-11-12 16:32:15
-2025-11-12 16:32:15
-2025-11-12 16:32:15
-2025-11-12 16:32:15
-2025-11-12 16:32:15
-2025-11-12 16:32:15
-2025-11-12 16:32:15
-2025-11-12 16:32:15
-2025-11-12 16:32:15
-2025-11-12 16:32:15
-2025-11-12 16:32:15
-2025-11-12 16:32:15
-2025-11-12 16:32:15
-2025-11-12 16:32:15
-2025-11-12 16:32:15
-2025-11-12 16:32:15
-2025-11-12 16:32:15
-2025-11-12 16:32:15
-2025-11-12 16:32:15
-2025-11-12 16:32:16
-2025-11-12 16:32:16
-2025-11-12 16:32:16
-2025-11-12 16:32:16
-2025-11-12 16:32:16
-2025-11-12 16:32:16
-2025-11-12 16:32:16
-2025-11-12 16:32:16
-2025-11-12 16:32:16
-2025-11-12 16:32:16
-2025-11-12 16:32:16
-2025-11-12 16:32:16
-2025-11-12 16:32:16
-2025-11-12 16:32:16
-2025-11-12 16:32:16
-2025-11-12 16:32:16
-2025-11-12 16:32:16
-2025-11-12 16:32:16
-2025-11-12 16:32:16
-2025-11-12 16:32:16
-2025-11-12 16:32:16
-2025-11-12 16:32:16
-2025-11-12 16:32:16
-2025-11-12 16:32:16
-2025-11-12 16:32:17
-2025-11-12 16:32:17
-2025-11-12 16:32:17
-2025-11-12 16:32:17
-2025-11-12 16:32:17
-2025-11-12 16:32:17
-2025-10-23 15:30:20
-2025-11-12 16:32:17
-2025-11-12 16:32:17
-2025-11-12 16:32:17
-2025-11-12 16:32:17
-2025-11-12 16:32:17
-2025-11-12 16:32:17
-2025-11-12 16:32:17
-2025-11-12 16:32:17
-2025-11-12 16:32:17
-2025-11-12 16:32:17
-2025-11-12 16:32:17
-2025-11-12 16:32:17
-2025-11-12 16:32:17
-2025-11-12 16:32:17
-2025-11-12 16:32:17
-2025-11-12 16:32:17
-2025-11-12 16:32:17
-2025-11-12 16:32:17
-2025-11-12 16:32:17
-2025-11-12 16:32:17
-2025-11-12 16:32:17
-2025-11-12 16:32:17
-2025-11-12 16:32:17
-2025-11-12 16:32:17
-2025-11-12 16:32:17
-2025-11-12 16:32:17
-2025-11-12 16:32:17
-2025-11-12 16:32:17
-2025-11-12 16:32:16
-2025-11-12 16:32:16
-2025-11-12 16:32:17
-2025-11-12 16:32:17
-2025-11-12 16:32:17
-2025-11-12 16:32:17
-2025-11-12 16:32:17
-2025-11-12 16:32:17
-2025-11-12 16:32:17
-2025-11-12 16:32:17
-2025-11-12 16:32:17
-2025-11-12 16:32:17
-2025-11-12 16:32:17
-2025-11-12 16:32:17
-2025-11-12 16:32:17
-2025-11-12 16:32:17
-2025-11-12 16:32:17
-2025-11-12 16:32:17
-2025-11-12 16:32:17
-2025-11-12 16:32:17
-2025-11-12 16:32:17
-2025-11-12 16:32:17
-2025-11-12 16:32:17
-2025-11-12 16:32:17
-2025-11-12 16:32:17
-2025-11-12 16:32:17
-2025-11-12 16:32:17
-2025-11-12 16:32:17
-2025-11-12 16:32:17
-2025-11-12 16:32:17
-2025-11-12 16:32:17
-2025-11-12 16:32:17
-2025-11-12 16:32:18
-2025-11-12 16:32:18
-2025-11-12 16:32:18
-2025-11-12 16:32:18
-2025-11-12 16:32:18
-2025-11-12 16:32:18
-2025-11-12 16:32:18
-2025-11-12 16:32:18
-2025-11-12 16:32:18
-2025-11-12 16:32:18
-2025-11-12 16:32:18
-2025-11-12 16:32:18
-2025-11-12 16:32:18
-2025-11-12 16:32:18
-2025-11-12 16:32:18
-2025-11-12 16:32:18
-2025-11-12 16:32:18
-2025-11-12 16:32:18
-2025-11-12 16:32:18
-2025-11-12 16:32:18
-2025-11-12 16:32:18
-2025-11-12 16:32:18
-2025-11-12 16:32:18
-2025-11-12 16:32:18
-2025-11-12 16:32:18
-2025-11-12 16:32:18
-2025-11-12 16:32:18
-2025-11-12 16:32:18
-2025-11-12 16:32:18
-2025-11-12 16:32:18
-2025-11-12 16:32:18
-2025-11-12 16:32:18
-2025-11-12 16:32:18
-2025-11-12 16:32:18
-2025-11-12 16:32:18
-2025-11-12 16:32:18
-2025-11-12 16:32:18
-2025-11-12 16:32:18
-2025-11-12 16:32:18
-2025-11-12 16:32:18
-2025-11-12 16:32:18
-2025-11-12 16:32:19
-2025-11-12 16:32:19
-2025-11-12 16:32:18
-2025-11-12 16:32:18
-2025-11-12 16:32:18
-2025-11-12 16:32:18
-2025-11-12 16:32:18
-2025-11-12 16:32:18
-2025-11-12 16:32:18
-2025-11-12 16:32:19
-2025-11-12 16:32:19
-2025-11-12 16:32:19
-2025-11-12 16:32:19
-2025-11-12 16:32:19
-2025-11-12 16:32:19
-2025-11-12 16:32:19
-2025-11-12 16:32:19
-2025-11-12 16:32:19
-2025-11-12 16:32:19
-2025-11-12 16:32:19
-2025-11-12 16:32:19
-2025-11-12 16:32:19
-2025-11-12 16:32:19
-2025-11-12 16:32:19
-2025-11-12 16:32:19
-2025-11-12 16:32:19
-2025-11-12 16:32:19
-2025-11-12 16:32:19
-2025-11-12 16:32:19
-2025-11-12 16:32:20
-2025-11-12 16:32:20
-2025-11-12 16:32:20
-2025-11-12 16:32:20
-2025-11-12 16:32:20
-2025-11-12 16:32:20
-2025-11-12 16:32:20
-2025-11-12 16:32:20
-2025-11-12 16:32:20
-2025-11-12 16:32:20
-2025-11-12 16:32:20
-2025-11-12 16:32:20
-2025-11-12 16:32:20
-2025-11-12 16:32:20
-2025-11-12 16:32:20
-2025-11-12 16:32:20
-2025-11-12 16:32:20
-2025-11-12 16:32:20
-2025-11-12 16:32:20
-2025-11-12 16:32:20
-2025-11-12 16:32:20
-2025-11-12 16:32:20
-2025-11-12 16:32:20
-2025-11-12 16:32:20
-2025-11-12 16:32:20
-2025-11-12 16:32:20
-2025-11-12 16:32:20
-2025-11-12 16:32:20
-2025-11-12 16:32:20
-2025-11-12 16:32:20
-2025-11-12 16:32:20
-2025-11-12 16:32:19
-2025-11-12 16:32:19
-2025-11-12 16:32:19
-2025-11-12 16:32:19
-2025-11-12 16:32:19
-2025-11-12 16:32:19
-2025-11-12 16:32:19
-2025-11-12 16:32:19
-2025-11-12 16:32:19
-2025-11-12 16:32:19
-2025-11-12 16:32:19
-2025-11-12 16:32:19
-2025-11-12 16:32:19
-2025-11-12 16:32:19
-2025-11-12 16:32:19
-2025-11-12 16:32:19
-2025-11-12 16:32:19
-2025-11-12 16:32:19
-2025-11-12 16:32:19
-2025-11-12 16:32:19
-2025-11-12 16:32:19
-2025-11-12 16:32:19
-2025-11-12 16:32:19
-2025-11-12 16:32:19
-2025-11-12 16:32:19
-2025-11-12 16:32:19
-2025-11-12 16:32:19
-2025-11-12 16:32:19
-2025-11-12 16:32:19
-2025-11-12 16:32:19
-2025-11-12 16:32:19
-2025-11-12 16:32:19
-2025-11-12 16:32:19
-2025-11-12 16:32:20
-2025-11-12 16:32:20
-2025-11-12 16:32:20
-2025-11-12 16:32:20
-2025-11-12 16:32:20
-2025-11-12 16:32:20
-2025-11-12 16:32:20
-2025-11-12 16:32:20
-2025-11-12 16:32:20
-2025-11-12 16:32:20
-2025-11-12 16:32:20
-2025-11-12 16:32:20
-2025-11-12 16:32:20
-2025-11-12 16:32:20
-2025-11-12 16:32:20
-2025-11-12 16:32:20
-2025-11-12 16:32:20
-2025-11-12 16:32:20
-2025-11-12 16:32:21
-2025-11-12 16:32:21
-2025-11-12 16:32:21
-2025-11-12 16:32:21
-2025-11-12 16:32:21
-2025-11-12 16:32:21
-2025-11-12 16:32:21
-2025-11-12 16:32:21
-2025-11-12 16:32:20
-2025-11-12 16:32:20
-2025-10-23 15:30:22
-2025-11-12 16:32:20
-2025-11-12 16:32:20
-2025-11-12 16:32:20
-2025-11-12 16:32:20
-2025-11-12 16:32:20
-2025-11-12 16:32:20
-2025-11-12 16:32:20
-2025-11-12 16:32:20
-2025-11-12 16:32:20
-2025-11-12 16:32:20
-2025-11-12 16:32:20
-2025-11-12 16:32:20
-2025-11-12 16:32:20
-2025-11-12 16:32:21
-2025-11-12 16:32:21
-2025-11-12 16:32:20
-2025-11-12 16:32:21
-2025-11-12 16:32:21
-2025-11-12 16:32:21
-2025-11-12 16:32:21
-2025-11-12 16:32:21
-2025-11-12 16:32:21
-2025-11-12 16:32:21
-2025-11-12 16:32:21
-2025-11-12 16:32:21
-2025-11-12 16:32:22
-2025-11-12 16:32:22
-2025-11-12 16:32:22
-2025-11-12 16:32:22
-2025-11-12 16:32:22
-2025-11-12 16:32:22
-2025-11-12 16:32:22
-2025-11-12 16:32:22
-2025-11-12 16:32:22
-2025-11-12 16:32:22
-2025-11-12 16:32:22
-2025-11-12 16:32:22
-2025-11-12 16:32:22
-2025-11-12 16:32:22
-2025-11-12 16:32:22
-2025-11-12 16:32:22
-2025-11-12 16:32:22
-2025-11-12 16:32:22
-2025-11-12 16:32:21
-2025-11-12 16:32:21
-2025-11-12 16:32:21
-2025-11-12 16:32:21
-2025-11-12 16:32:22
-2025-11-12 16:32:22
-2025-11-12 16:32:22
-2025-11-12 16:32:22
-2025-11-12 16:32:22
-2025-11-12 16:32:22
-2025-11-12 16:32:22
-2025-11-12 16:32:22
-2025-11-12 16:32:22
-2025-11-12 16:32:22
-2025-11-12 16:32:22
-2025-11-12 16:32:22
-2025-11-12 16:32:22
-2025-11-12 16:32:22
-2025-11-12 16:32:22
-2025-11-12 16:32:22
-2025-11-12 16:32:22
-2025-11-12 16:32:22
-2025-11-12 16:32:22
-2025-11-12 16:32:22
-2025-11-12 16:32:22
-2025-11-12 16:32:22
-2025-11-12 16:32:22
-2025-11-12 16:32:22
-2025-11-12 16:32:23
-2025-11-12 16:32:23
-2025-11-12 16:32:23
-2025-11-12 16:32:23
-2025-11-12 16:32:22
-2025-11-12 16:32:22
-2025-11-12 16:32:22
-2025-10-23 15:30:23
-2025-11-12 16:32:22
-2025-11-12 16:32:22
-2025-11-12 16:32:22
-2025-11-12 16:32:22
-2025-11-12 16:32:23
-2025-11-12 16:32:23
-2025-11-12 16:32:23
-2025-11-12 16:32:23
-2025-11-12 16:32:23
-2025-11-12 16:32:23
-2025-10-23 15:30:23
-2025-11-12 16:32:23
-2025-11-12 16:32:23
-2025-11-12 16:32:23
-2025-11-12 16:32:23
-2025-11-12 16:32:23
-2025-11-12 16:32:23
-2025-11-12 16:32:23
-2025-11-12 16:32:23
-2025-11-12 16:32:23
-2025-11-12 16:32:23
-2025-11-12 16:32:23
-2025-11-12 16:32:23
-2025-11-12 16:32:23
-2025-11-12 16:32:23
-2025-11-12 16:32:23
-2025-11-12 16:32:23
-2025-11-12 16:32:23
-2025-11-12 16:32:23
-2025-11-12 16:32:23
-2025-11-12 16:32:23
-2025-11-12 16:32:24
-2025-11-12 16:32:24
-2025-11-12 16:32:24
-2025-11-12 16:32:24
-2025-11-12 16:32:24
-2025-11-12 16:32:24
-2025-11-12 16:32:25
-2025-11-12 16:32:25
-2025-11-12 16:32:25
-2025-11-12 16:32:25
-2025-11-12 16:32:25
-2025-11-12 16:32:25
-2025-11-12 16:32:25
-2025-11-12 16:32:25
-2025-11-12 16:32:25
-2025-11-12 16:32:25
-2025-11-12 16:32:25
-2025-11-12 16:32:25
-2025-11-12 16:32:25
-2025-11-12 16:32:25
-2025-11-12 16:32:25
-2025-11-12 16:32:25
-2025-11-12 16:32:25
-2025-11-12 16:32:25
-2025-11-12 16:32:25
-2025-11-12 16:32:25
-2025-11-12 16:32:25
-2025-11-12 16:32:25
-2025-11-12 16:32:25
-2025-11-12 16:32:25
-2025-11-12 16:32:25
-2025-11-12 16:32:25
-2025-11-12 16:32:25
-2025-11-12 16:32:25
-2025-11-12 16:32:26
-2025-11-12 16:32:26
-2025-11-12 16:32:26
-2025-11-12 16:32:26
-2025-11-12 16:32:23
-2025-11-12 16:32:23
-2025-11-12 16:32:23
-2025-11-12 16:32:23
-2025-11-12 16:32:23
-2025-11-12 16:32:23
-2025-11-12 16:32:23
-2025-11-12 16:32:23
-2025-11-12 16:32:23
-2025-11-12 16:32:23
-2025-11-12 16:32:23
-2025-11-12 16:32:23
-2025-11-12 16:32:23
-2025-11-12 16:32:24
-2025-11-12 16:32:24
-2025-11-12 16:32:24
-2025-11-12 16:32:24
-2025-11-12 16:32:24
-2025-11-12 16:32:24
-2025-11-12 16:32:24
-2025-11-12 16:32:24
-2025-11-12 16:32:23
-2025-11-12 16:32:23
-2025-11-12 16:32:24
-2025-11-12 16:32:24
-2025-11-12 16:32:24
-2025-11-12 16:32:24
-2025-11-12 16:32:24
-2025-11-12 16:32:24
-2025-11-12 16:32:24
-2025-11-12 16:32:24
-2025-11-12 16:32:24
-2025-11-12 16:32:24
-2025-11-12 16:32:24
-2025-11-12 16:32:24
-2025-11-12 16:32:24
-2025-11-12 16:32:24
-2025-11-12 16:32:24
-2025-11-12 16:32:24
-2025-11-12 16:32:25
-2025-11-12 16:32:25
-2025-11-12 16:32:25
-2025-11-12 16:32:25
-2025-11-12 16:32:25
-2025-11-12 16:32:25
-2025-11-12 16:32:25
-2025-11-12 16:32:25
-2025-11-12 16:32:25
-2025-11-12 16:32:25
-2025-11-12 16:32:25
-2025-11-12 16:32:25
-2025-11-12 16:32:25
-2025-11-12 16:32:25
-2025-11-12 16:32:25
-2025-11-12 16:32:25
-2025-11-12 16:32:25
-2025-11-12 16:32:25
-2025-11-12 16:32:25
-2025-11-12 16:32:25
-2025-11-12 16:32:26
-2025-11-12 16:32:26
-2025-11-12 16:32:26
-2025-11-12 16:32:26
-2025-11-12 16:32:26
-2025-11-12 16:32:26
-2025-11-12 16:32:26
-2025-11-12 16:32:26
-2025-11-12 16:32:26
-2025-11-12 16:32:26
-2025-11-12 16:32:26
-2025-11-12 16:32:26
-2025-11-12 16:32:26
-2025-11-12 16:32:26
-2025-11-12 16:32:26
-2025-11-12 16:32:26
-2025-11-12 16:32:26
-2025-11-12 16:32:26
-2025-11-12 16:32:26
-2025-11-12 16:32:26
-2025-11-12 16:32:26
-2025-11-12 16:32:26
-2025-11-12 16:32:26
-2025-11-12 16:32:26
-2025-11-12 16:32:26
-2025-11-12 16:32:26
-2025-11-12 16:32:26
-2025-11-12 16:32:26
-2025-11-12 16:32:26
-2025-11-12 16:32:26
-2025-11-12 16:32:26
-2025-11-12 16:32:26
-2025-11-12 16:32:26
-2025-11-12 16:32:27
-2025-11-12 16:32:27
-2025-11-12 16:32:27
-2025-11-12 16:32:27
-2025-11-12 16:32:27
-2025-11-12 16:32:27
-2025-11-12 16:32:27
-2025-11-12 16:32:27
-2025-11-12 16:32:27
-2025-11-12 16:32:26
-2025-11-12 16:32:27
-2025-11-12 16:32:27
-2025-11-12 16:32:27
-2025-11-12 16:32:27
-2025-11-12 16:32:27
-2025-11-12 16:32:27
-2025-11-12 16:32:27
-2025-11-12 16:32:27
-2025-11-12 16:32:27
-2025-11-12 16:32:27
-2025-11-12 16:32:27
-2025-11-12 16:32:27
-2025-11-12 16:32:27
-2025-11-12 16:32:27
-2025-11-12 16:32:27
-2025-11-12 16:32:27
-2025-11-12 16:32:27
-2025-11-12 16:32:27
-2025-11-12 16:32:27
-2025-11-12 16:32:27
-2025-11-12 16:32:28
-2025-11-12 16:32:28
-2025-11-12 16:32:28
-2025-11-12 16:32:28
-2025-11-12 16:32:28
-2025-11-12 16:32:28
-2025-11-12 16:32:28
-2025-11-12 16:32:28
-2025-11-12 16:32:28
-2025-11-12 16:32:29
-2025-11-12 16:32:29
-2025-11-12 16:32:29
-2025-11-12 16:32:29
-2025-11-12 16:32:29
-2025-11-12 16:32:29
-2025-11-12 16:32:29
-2025-11-12 16:32:29
-2025-11-12 16:32:29
-2025-11-12 16:32:27
-2025-11-12 16:32:27
-2025-11-12 16:32:27
-2025-11-12 16:32:27
-2025-11-12 16:32:28
-2025-11-12 16:32:28
-2025-11-12 16:32:28
-2025-11-12 16:32:28
-2025-11-12 16:32:28
-2025-11-12 16:32:28
-2025-10-23 15:30:25
-2025-11-12 16:32:28
-2025-11-12 16:32:28
-2025-11-12 16:32:28
-2025-11-12 16:32:28
-2025-11-12 16:32:28
-2025-11-12 16:32:28
-2025-11-12 16:32:28
-2025-11-12 16:32:28
-2025-11-12 16:32:29
-2025-11-12 16:32:29
-2025-11-12 16:32:29
-2025-11-12 16:32:29
-2025-11-12 16:32:29
-2025-11-12 16:32:29
-2025-11-12 16:32:29
-2025-11-12 16:32:29
-2025-11-12 16:32:29
-2025-11-12 16:32:29
-2025-11-12 16:32:29
-2025-11-12 16:32:29
-2025-11-12 16:32:29
-2025-11-12 16:32:29
-2025-11-12 16:32:29
-2025-11-12 16:32:29
-2025-11-12 16:32:29
-2025-11-12 16:32:29
-2025-11-12 16:32:29
-2025-11-12 16:32:29
-2025-11-12 16:32:30
-2025-11-12 16:32:30
-2025-11-12 16:32:30
-2025-11-12 16:32:30
-2025-11-12 16:32:30
-2025-11-12 16:32:30
-2025-11-12 16:32:30
-2025-11-12 16:32:30
-2025-11-12 16:32:31
-2025-11-12 16:32:31
-2025-11-12 16:32:31
-2025-11-12 16:32:31
-2025-11-12 16:32:31
-2025-11-12 16:32:31
-2025-11-12 16:32:31
-2025-11-12 16:32:31
-2025-11-12 16:32:31
-2025-11-12 16:32:31
-2025-11-12 16:32:31
-2025-11-12 16:32:31
-2025-11-12 16:32:31
-2025-11-12 16:32:31
-2025-11-12 16:32:31
-2025-11-12 16:32:31
-2025-11-12 16:32:31
-2025-11-12 16:32:31
-2025-11-12 16:32:31
-2025-11-12 16:32:31
-2025-11-12 16:32:31
-2025-11-12 16:32:31
-2025-11-12 16:32:31
-2025-11-12 16:32:31
-2025-11-12 16:32:31
-2025-11-12 16:32:31
-2025-11-12 16:32:31
-2025-11-12 16:32:32
-2025-11-12 16:32:32
-2025-11-12 16:32:32
-2025-11-12 16:32:32
-2025-11-12 16:32:32
-2025-11-12 16:32:32
-2025-11-12 16:32:32
-2025-11-12 16:32:32
-2025-11-12 16:32:32
-2025-11-12 16:32:32
-2025-11-12 16:32:32
-2025-11-12 16:32:32
-2025-11-12 16:32:32
-2025-11-12 16:32:32
-2025-11-12 16:32:32
-2025-11-12 16:32:32
-2025-11-12 16:32:32
-2025-11-12 16:32:32
-2025-11-12 16:32:32
-2025-11-12 16:32:32
-2025-11-12 16:32:32
-2025-11-12 16:32:32
-2025-11-12 16:32:29
-2025-11-12 16:32:29
-2025-11-12 16:32:29
-2025-11-12 16:32:30
-2025-11-12 16:32:30
-2025-11-12 16:32:30
-2025-11-12 16:32:30
-2025-11-12 16:32:30
-2025-11-12 16:32:30
-2025-11-12 16:32:08
-2025-11-12 16:32:30
-2025-11-12 16:32:30
-2025-11-12 16:32:30
-2025-11-12 16:32:30
-2025-11-12 16:32:30
-2025-11-12 16:32:31
-2025-11-12 16:32:31
-2025-11-12 16:32:31
-2025-11-12 16:32:31
-2025-10-23 15:30:27
-2025-11-12 16:32:31
-2025-11-12 16:32:31
-2025-11-12 16:32:31
-2025-11-12 16:32:31
-2025-11-12 16:32:31
-2025-11-12 16:32:31
-2025-11-12 16:32:31
-2025-11-12 16:32:31
-2025-10-23 15:30:27
-2025-11-12 16:32:31
-2025-11-12 16:32:31
-2025-10-23 15:30:27
-2025-11-12 16:32:31
-2025-11-12 16:32:31
-2025-11-12 16:32:31
-2025-11-12 16:32:31
-2025-11-12 16:32:31
-2025-11-12 16:32:31
-2025-11-12 16:32:31
-2025-11-12 16:32:31
-2025-11-12 16:32:31
-2025-11-12 16:32:31
-2025-11-12 16:32:31
-2025-11-12 16:32:31
-2025-11-12 16:32:31
-2025-11-12 16:32:31
-2025-11-12 16:32:32
-2025-11-12 16:32:32
-2025-11-12 16:32:32
-2025-11-12 16:32:32
-2025-11-12 16:32:32
-2025-11-12 16:32:32
-2025-11-12 16:32:32
-2025-11-12 16:32:32
-2025-11-12 16:32:32
-2025-11-12 16:32:32
-2025-10-23 15:30:27
-2025-11-12 16:32:32
-2025-11-12 16:32:32
-2025-11-12 16:32:32
-2025-11-12 16:32:32
-2025-11-12 16:32:32
-2025-11-12 16:32:32
-2025-11-12 16:32:32
-2025-11-12 16:32:33
-2025-11-12 16:32:33
-2025-11-12 16:32:33
-2025-11-12 16:32:33
-2025-11-12 16:32:33
-2025-11-12 16:32:34
-2025-11-12 16:32:34
-2025-11-12 16:32:34
-2025-11-12 16:32:34
-2025-11-12 16:32:34
-2025-11-12 16:32:34
-2025-11-12 16:32:34
-2025-11-12 16:32:34
-2025-11-12 16:32:34
-2025-11-12 16:32:34
-2025-11-12 16:32:34
-2025-11-12 16:32:34
-2025-11-12 16:32:34
-2025-11-12 16:32:34
-2025-11-12 16:32:34
-2025-11-12 16:32:34
-2025-11-12 16:32:34
-2025-11-12 16:32:34
-2025-11-12 16:32:34
-2025-11-12 16:32:34
-2025-11-12 16:32:35
-2025-11-12 16:32:35
-2025-11-12 16:32:35
-2025-11-12 16:32:35
-2025-11-12 16:32:35
-2025-11-12 16:32:35
-2025-11-12 16:32:35
-2025-11-12 16:32:35
-2025-11-12 16:32:35
-2025-11-12 16:32:35
-2025-11-12 16:32:35
-2025-11-12 16:32:35
-2025-11-12 16:32:35
-2025-11-12 16:32:35
-2025-11-12 16:32:35
-2025-11-12 16:32:35
-2025-11-12 16:32:35
-2025-11-12 16:32:32
-2025-11-12 16:32:32
-2025-11-12 16:32:32
-2025-11-12 16:32:32
-2025-11-12 16:32:33
-2025-11-12 16:32:33
-2025-11-12 16:32:34
-2025-11-12 16:32:34
-2025-11-12 16:32:34
-2025-11-12 16:32:34
-2025-11-12 16:32:34
-2025-11-12 16:32:34
-2025-11-12 16:32:34
-2025-11-12 16:32:34
-2025-11-12 16:32:34
-2025-11-12 16:32:34
-2025-11-12 16:32:34
-2025-11-12 16:32:34
-2025-11-12 16:32:34
-2025-11-12 16:32:34
-2025-11-12 16:32:34
-2025-11-12 16:32:34
-2025-11-12 16:32:34
-2025-11-12 16:32:34
-2025-11-12 16:32:34
-2025-11-12 16:32:34
-2025-11-12 16:32:34
-2025-11-12 16:32:34
-2025-11-12 16:32:34
-2025-11-12 16:32:34
-2025-11-12 16:32:34
-2025-11-12 16:32:34
-2025-11-12 16:32:34
-2025-11-12 16:32:35
-2025-11-12 16:32:35
-2025-11-12 16:32:35
-2025-11-12 16:32:35
-2025-11-12 16:32:35
-2025-11-12 16:32:35
-2025-11-12 16:32:35
-2025-11-12 16:32:35
-2025-11-12 16:32:35
-2025-11-12 16:32:35
-2025-11-12 16:32:35
-2025-11-12 16:32:35
-2025-11-12 16:32:35
-2025-11-12 16:32:35
-2025-11-12 16:32:35
-2025-11-12 16:32:35
-2025-11-12 16:32:35
-2025-11-12 16:32:35
-2025-11-12 16:32:35
-2025-11-12 16:32:35
-2025-11-12 16:32:35
-2025-11-12 16:32:35
-2025-10-23 15:30:29
-2025-11-12 16:32:35
-2025-11-12 16:32:35
-2025-11-12 16:32:35
-2025-11-12 16:32:35
-2025-11-12 16:32:35
-2025-11-12 16:32:35
-2025-11-12 16:32:35
-2025-11-12 16:32:35
-2025-11-12 16:32:36
-2025-11-12 16:32:36
-2025-11-12 16:32:36
-2025-11-12 16:32:36
-2025-11-12 16:32:36
-2025-11-12 16:32:36
-2025-11-12 16:32:36
-2025-11-12 16:32:36
-2025-11-12 16:32:36
-2025-11-12 16:32:36
-2025-11-12 16:32:36
-2025-11-12 16:32:36
-2025-11-12 16:32:36
-2025-11-12 16:32:36
-2025-11-12 16:32:36
-2025-11-12 16:32:36
-2025-11-12 16:32:36
-2025-11-12 16:32:36
-2025-11-12 16:32:36
-2025-11-12 16:32:36
-2025-11-12 16:32:36
-2025-11-12 16:32:36
-2025-11-12 16:32:36
-2025-11-12 16:32:36
-2025-11-12 16:32:36
-2025-11-12 16:32:36
-2025-11-12 16:32:36
-2025-11-12 16:32:36
-2025-11-12 16:32:36
-2025-11-12 16:32:37
-2025-11-12 16:32:37
-2025-11-12 16:32:37
-2025-11-12 16:32:37
-2025-11-12 16:32:37
-2025-11-12 16:32:36
-2025-11-12 16:32:36
-2025-11-12 16:32:36
-2025-11-12 16:32:36
-2025-11-12 16:32:36
-2025-11-12 16:32:36
-2025-10-23 15:30:29
-2025-11-12 16:32:36
-2025-11-12 16:32:36
-2025-11-12 16:32:36
-2025-11-12 16:32:36
-2025-11-12 16:32:36
-2025-10-23 15:30:29
-2025-11-12 16:32:36
-2025-11-12 16:32:36
-2025-11-12 16:32:36
-2025-11-12 16:32:37
-2025-11-12 16:32:37
-2025-11-12 16:32:37
-2025-11-12 16:32:37
-2025-11-12 16:32:37
-2025-11-12 16:32:37
-2025-11-12 16:32:37
-2025-11-12 16:32:37
-2025-11-12 16:32:37
-2025-11-12 16:32:37
-2025-11-12 16:32:37
-2025-11-12 16:32:37
-2025-11-12 16:32:37
-2025-11-12 16:32:37
-2025-11-12 16:32:37
-2025-11-12 16:32:37
-2025-11-12 16:32:37
-2025-11-12 16:32:37
-2025-11-12 16:32:37
-2025-11-12 16:32:37
-2025-11-12 16:32:37
-2025-11-12 16:32:37
-2025-11-12 16:32:37
-2025-11-12 16:32:37
-2025-11-12 16:32:37
-2025-11-12 16:32:37
-2025-11-12 16:32:37
-2025-11-12 16:32:37
-2025-11-12 16:32:37
-2025-11-12 16:32:37
-2025-10-23 15:30:30
-2025-11-12 16:32:37
-2025-11-12 16:32:37
-2025-11-12 16:32:37
-2025-11-12 16:32:37
-2025-11-12 16:32:37
-2025-11-12 16:32:11
-2025-11-12 16:32:11
-2025-11-12 16:32:11
-2025-11-12 16:32:11
-2025-11-12 16:32:11
-2025-11-12 16:32:11
-2025-11-12 16:32:11
-2025-11-12 16:32:11
-2025-11-12 16:32:11
-2025-11-12 16:32:11
-2025-11-12 16:32:11
-2025-11-12 16:32:11
-2025-11-12 16:32:11
-2025-11-12 16:32:11
-2025-11-12 16:32:11
-2025-11-12 16:32:11
-2025-11-12 16:32:11
-2025-11-12 16:32:11
-2025-11-12 16:32:11
-2025-11-12 16:32:11
-2025-11-12 16:32:11
-2025-11-12 16:32:12
-2025-11-12 16:32:12
-2025-11-12 16:32:12
-2025-11-12 16:32:12
-2025-11-12 16:32:12
-2025-11-12 16:32:12
-2025-11-12 16:32:12
-2025-11-12 16:32:12
-2025-11-12 16:32:12
-2025-11-12 16:32:12
-2025-11-12 16:32:12
-2025-11-12 16:32:12
-2025-11-12 16:32:12
-2025-11-12 16:32:12
-2025-11-12 16:32:12
-2025-11-12 16:32:12
-2025-11-12 16:32:12
-2025-11-12 16:32:12
-2025-11-12 16:32:12
-2025-11-12 16:32:12
-2025-11-12 16:32:12
-2025-11-12 16:32:12
-2025-11-12 16:32:12
-2025-11-12 16:32:12
-2025-11-12 16:32:12
-2025-11-12 16:32:12
-2025-11-12 16:32:12
-2025-11-12 16:32:12
-2025-11-12 16:32:12
-2025-11-12 16:32:12
-2025-11-12 16:32:12
-2025-11-12 16:32:12
-2025-11-12 16:32:12
-2025-11-12 16:32:12
-2025-11-12 16:32:12
-2025-11-12 16:32:12
-2025-11-12 16:32:12
-2025-11-12 16:32:12
-2025-11-12 16:32:12
-2025-11-12 16:32:12
-2025-11-12 16:32:12
-2025-11-12 16:32:12
-2025-11-12 16:32:12
-2025-11-12 16:32:12
-2025-11-12 16:32:12
-2025-11-12 16:32:12
-2025-11-12 16:32:12
-2025-11-12 16:32:12
-2025-11-12 16:32:12
-2025-11-12 16:32:12
-2025-11-12 16:32:12
-2025-11-12 16:32:12
-2025-11-12 16:32:12
-2025-11-12 16:32:12
-2025-11-12 16:32:12
-2025-11-12 16:32:13
-2025-11-12 16:32:13
-2025-11-12 16:32:13
-2025-11-12 16:32:13
-2025-11-12 16:32:13
-2025-11-12 16:32:13
-2025-11-12 16:32:13
-2025-11-12 16:32:13
-2025-11-12 16:32:13
-2025-11-12 16:32:13
-2025-11-12 16:32:13
-2025-11-12 16:32:13
-2025-11-12 16:32:13
-2025-11-12 16:32:13
-2025-11-12 16:32:13
-2025-11-12 16:32:13
-2025-10-23 15:30:18
-2025-11-12 16:32:13
-2025-11-12 16:32:13
-2025-11-12 16:32:13
-2025-11-12 16:32:13
-2025-11-12 16:32:13
-2025-11-12 16:32:13
-2025-11-12 16:32:13
-2025-11-12 16:32:13
-2025-11-12 16:32:13
-2025-11-12 16:32:13
-2025-11-12 16:32:13
-2025-11-12 16:32:13
-2025-11-12 16:32:13
-2025-10-23 15:30:18
-2025-10-23 15:30:18
-2025-10-23 15:30:18
-2025-10-23 15:30:18
-2025-11-12 16:32:13
-2025-11-12 16:32:13
-2025-11-12 16:32:13
-2025-11-12 16:32:13
-2025-11-12 16:32:13
-2025-11-12 16:32:13
-2025-11-12 16:32:13
-2025-11-12 16:32:13
-2025-11-12 16:32:13
-2025-11-12 16:32:13
-2025-11-12 16:32:13
-2025-11-12 16:32:13
-2025-11-12 16:32:13
-2025-11-12 16:32:13
-2025-11-12 16:32:14
-2025-11-12 16:32:14
-2025-11-12 16:32:14
-2025-11-12 16:32:14
-2025-11-12 16:32:14
-2025-11-12 16:32:14
-2025-11-12 16:32:14
-2025-11-12 16:32:14
-2025-11-12 16:32:16
-2025-11-12 16:32:14
-2025-11-12 16:32:14
-2025-11-12 16:32:14
-2025-11-12 16:32:14
-2025-11-12 16:32:14
-2025-11-12 16:32:14
-2025-11-12 16:32:14
-2025-11-12 16:32:14
-2025-11-12 16:32:14
-2025-11-12 16:32:14
-2025-11-12 16:32:14
-2025-10-23 15:30:19
-2025-11-12 16:32:14
-2025-11-12 16:32:14
-2025-11-12 16:32:14
-2025-11-12 16:32:14
-2025-11-12 16:32:14
-2025-11-12 16:32:14
-2025-11-12 16:32:14
-2025-11-12 16:32:14
-2025-11-12 16:32:14
-2025-11-12 16:32:14
-2025-11-12 16:32:14
-2025-11-12 16:32:14
-2025-11-12 16:32:15
-2025-11-12 16:32:14
-2025-11-12 16:32:15
-2025-11-12 16:32:15
-2025-11-12 16:32:15
-2025-11-12 16:32:15
-2025-11-12 16:32:15
-2025-11-12 16:32:15
-2025-11-12 16:32:15
-2025-11-12 16:32:15
-2025-11-12 16:32:15
-2025-11-12 16:32:15
-2025-11-12 16:32:15
-2025-11-12 16:32:15
-2025-11-12 16:32:15
-2025-11-12 16:32:15
-2025-11-12 16:32:15
-2025-10-23 15:30:19
-2025-11-12 16:32:15
-2025-11-12 16:32:15
-2025-11-12 16:32:15
-2025-11-12 16:32:15
-2025-11-12 16:32:15
-2025-11-12 16:32:15
-2025-11-12 16:32:15
-2025-11-12 16:32:15
-2025-11-12 16:32:15
-2025-11-12 16:32:15
-2025-11-12 16:32:15
-2025-11-12 16:32:15
-2025-11-12 16:32:15
-2025-11-12 16:32:15
-2025-11-12 16:32:15
-2025-11-12 16:32:15
-2025-11-12 16:32:15
-2025-11-12 16:32:15
-2025-11-12 16:32:15
-2025-11-12 16:32:15
-2025-11-12 16:32:16
-2025-11-12 16:32:16
-2025-11-12 16:32:16
-2025-11-12 16:32:15
-2025-11-12 16:32:16
-2025-11-12 16:32:16
-2025-11-12 16:32:16
-2025-11-12 16:32:16
-2025-11-12 16:32:16
-2025-11-12 16:32:16
-2025-11-12 16:32:16
-2025-11-12 16:32:16
-2025-11-12 16:32:16
-2025-11-12 16:32:16
-2025-11-12 16:32:16
-2025-11-12 16:32:16
-2025-11-12 16:32:16
-2025-11-12 16:32:16
-2025-11-12 16:32:16
-2025-11-12 16:32:16
-2025-11-12 16:32:16
-2025-11-12 16:32:16
-2025-11-12 16:32:16
-2025-11-12 16:32:16
-2025-11-12 16:32:16
-2025-11-12 16:32:16
-2025-11-12 16:32:16
-2025-11-12 16:32:16
-2025-11-12 16:32:16
-2025-11-12 16:32:16
-2025-11-12 16:32:16
-2025-11-12 16:32:16
-2025-11-12 16:32:16
-2025-11-12 16:32:16
-2025-11-12 16:32:16
-2025-11-12 16:32:16
-2025-11-12 16:32:16
-2025-11-12 16:32:16
-2025-11-12 16:32:16
-2025-11-12 16:32:16
-2025-11-12 16:32:16
-2025-11-12 16:32:16
-2025-11-12 16:32:16
-2025-11-12 16:32:16
-2025-11-12 16:32:16
-2025-11-12 16:32:16
-2025-11-12 16:32:16
-2025-11-12 16:32:16
-2025-11-12 16:32:16
-2025-11-12 16:32:16
-2025-11-12 16:32:16
-2025-11-12 16:32:16
-2025-11-12 16:32:16
-2025-11-12 16:32:16
-2025-11-12 16:32:16
-2025-11-12 16:32:16
-2025-11-12 16:32:16
-2025-11-12 16:32:16
-2025-11-12 16:32:16
-2025-11-12 16:32:17
-2025-11-12 16:32:16
-2025-11-12 16:32:16
-2025-11-12 16:32:16
-2025-11-12 16:32:16
-2025-11-12 16:32:16
-2025-11-12 16:32:16
-2025-11-12 16:32:16
-2025-11-12 16:32:16
-2025-11-12 16:32:16
-2025-11-12 16:32:16
-2025-11-12 16:32:16
-2025-11-12 16:32:16
-2025-11-12 16:32:17
-2025-11-12 16:32:17
-2025-11-12 16:32:17
-2025-11-12 16:32:17
-2025-11-12 16:32:17
-2025-11-12 16:32:17
-2025-11-12 16:32:17
-2025-11-12 16:32:17
-2025-11-12 16:32:17
-2025-11-12 16:32:17
-2025-11-12 16:32:17
-2025-11-12 16:32:17
-2025-11-12 16:32:17
-2025-11-12 16:32:17
-2025-11-12 16:32:17
-2025-11-12 16:32:17
-2025-11-12 16:32:17
-2025-11-12 16:32:17
-2025-11-12 16:32:17
-2025-11-12 16:32:17
-2025-11-12 16:32:17
-2025-11-12 16:32:17
-2025-11-12 16:32:17
-2025-11-12 16:32:17
-2025-11-12 16:32:17
-2025-11-12 16:32:17
-2025-11-12 16:32:17
-2025-11-12 16:32:17
-2025-11-12 16:32:17
-2025-11-12 16:32:17
-2025-11-12 16:32:17
-2025-11-12 16:32:17
-2025-11-12 16:32:17
-2025-11-12 16:32:17
-2025-11-12 16:32:17
-2025-11-12 16:32:17
-2025-11-12 16:32:17
-2025-11-12 16:32:17
-2025-11-12 16:32:17
-2025-11-12 16:32:17
-2025-11-12 16:32:18
-2025-11-12 16:32:18
-2025-11-12 16:32:18
-2025-11-12 16:32:18
-2025-11-12 16:32:18
-2025-11-12 16:32:18
-2025-11-12 16:32:18
-2025-11-12 16:32:18
-2025-11-12 16:32:18
-2025-11-12 16:32:18
-2025-11-12 16:32:18
-2025-11-12 16:32:18
-2025-11-12 16:32:18
-2025-11-12 16:32:18
-2025-11-12 16:32:18
-2025-11-12 16:32:18
-2025-11-12 16:32:18
-2025-11-12 16:32:18
-2025-11-12 16:32:18
-2025-11-12 16:32:18
-2025-11-12 16:32:18
-2025-11-12 16:32:18
-2025-11-12 16:32:18
-2025-11-12 16:32:18
-2025-11-12 16:32:18
-2025-11-12 16:32:18
-2025-11-12 16:32:18
-2025-11-12 16:32:18
-2025-11-12 16:32:18
-2025-11-12 16:32:18
-2025-11-12 16:32:18
-2025-11-12 16:32:18
-2025-11-12 16:32:18
-2025-11-12 16:32:18
-2025-11-12 16:32:18
-2025-11-12 16:32:18
-2025-11-12 16:32:18
-2025-11-12 16:32:18
-2025-11-12 16:32:18
-2025-11-12 16:32:18
-2025-11-12 16:32:18
-2025-11-12 16:32:18
-2025-11-12 16:32:18
-2025-11-12 16:32:18
-2025-11-12 16:32:18
-2025-11-12 16:32:18
-2025-11-12 16:32:18
-2025-11-12 16:32:18
-2025-11-12 16:32:18
-2025-11-12 16:32:18
-2025-11-12 16:32:18
-2025-11-12 16:32:18
-2025-11-12 16:32:18
-2025-11-12 16:32:18
-2025-11-12 16:32:18
-2025-11-12 16:32:18
-2025-11-12 16:32:18
-2025-11-12 16:32:18
-2025-11-12 16:32:18
-2025-11-12 16:32:18
-2025-11-12 16:32:18
-2025-11-12 16:32:18
-2025-11-12 16:32:18
-2025-11-12 16:32:18
-2025-11-12 16:32:18
-2025-11-12 16:32:19
-2025-11-12 16:32:19
-2025-11-12 16:32:19
-2025-11-12 16:32:19
-2025-11-12 16:32:19
-2025-11-12 16:32:19
-2025-11-12 16:32:19
-2025-11-12 16:32:19
-2025-11-12 16:32:19
-2025-11-12 16:32:19
-2025-11-12 16:32:19
-2025-11-12 16:32:19
-2025-11-12 16:32:19
-2025-11-12 16:32:19
-2025-11-12 16:32:19
-2025-11-12 16:32:19
-2025-11-12 16:32:19
-2025-11-12 16:32:19
-2025-11-12 16:32:19
-2025-11-12 16:32:18
-2025-11-12 16:32:19
-2025-11-12 16:32:19
-2025-11-12 16:32:19
-2025-11-12 16:32:19
-2025-11-12 16:32:19
-2025-11-12 16:32:19
-2025-11-12 16:32:19
-2025-11-12 16:32:19
-2025-11-12 16:32:19
-2025-11-12 16:32:19
-2025-11-12 16:32:19
-2025-11-12 16:32:19
-2025-11-12 16:32:19
-2025-11-12 16:32:19
-2025-11-12 16:32:19
-2025-11-12 16:32:20
-2025-11-12 16:32:20
-2025-11-12 16:32:19
-2025-11-12 16:32:19
-2025-11-12 16:32:19
-2025-11-12 16:32:19
-2025-11-12 16:32:19
-2025-11-12 16:32:19
-2025-11-12 16:32:19
-2025-11-12 16:32:19
-2025-11-12 16:32:19
-2025-11-12 16:32:19
-2025-11-12 16:32:19
-2025-11-12 16:32:19
-2025-11-12 16:32:19
-2025-11-12 16:32:19
-2025-11-12 16:32:19
-2025-11-12 16:32:19
-2025-11-12 16:32:19
-2025-11-12 16:32:19
-2025-11-12 16:32:19
-2025-11-12 16:32:19
-2025-11-12 16:32:19
-2025-11-12 16:32:19
-2025-11-12 16:32:19
-2025-11-12 16:32:19
-2025-11-12 16:32:19
-2025-11-12 16:32:19
-2025-11-12 16:32:19
-2025-11-12 16:32:19
-2025-11-12 16:32:19
-2025-11-12 16:32:20
-2025-11-12 16:32:20
-2025-11-12 16:32:20
-2025-11-12 16:32:20
-2025-11-12 16:32:20
-2025-11-12 16:32:20
-2025-11-12 16:32:20
-2025-11-12 16:32:20
-2025-11-12 16:32:20
-2025-11-12 16:32:20
-2025-11-12 16:32:20
-2025-11-12 16:32:20
-2025-11-12 16:32:20
-2025-11-12 16:32:20
-2025-11-12 16:32:20
-2025-11-12 16:32:20
-2025-11-12 16:32:20
-2025-11-12 16:32:20
-2025-11-12 16:32:20
-2025-11-12 16:32:20
-2025-11-12 16:32:20
-2025-11-12 16:32:20
-2025-11-12 16:32:20
-2025-11-12 16:32:20
-2025-11-12 16:32:20
-2025-11-12 16:32:20
-2025-11-12 16:32:20
-2025-11-12 16:32:20
-2025-10-23 15:30:22
-2025-11-12 16:32:20
-2025-11-12 16:32:20
-2025-11-12 16:32:20
-2025-11-12 16:32:20
-2025-11-12 16:32:20
-2025-11-12 16:32:20
-2025-11-12 16:32:20
-2025-11-12 16:32:20
-2025-11-12 16:32:20
-2025-11-12 16:32:20
-2025-11-12 16:32:20
-2025-11-12 16:32:20
-2025-11-12 16:32:20
-2025-11-12 16:32:20
-2025-11-12 16:32:20
-2025-11-12 16:32:20
-2025-11-12 16:32:20
-2025-11-12 16:32:20
-2025-10-23 15:30:22
-2025-10-23 15:30:22
-2025-11-12 16:32:21
-2025-11-12 16:32:21
-2025-11-12 16:32:21
-2025-11-12 16:32:21
-2025-11-12 16:32:21
-2025-11-12 16:32:21
-2025-11-12 16:32:21
-2025-11-12 16:32:21
-2025-11-12 16:32:21
-2025-10-23 15:30:22
-2025-11-12 16:32:21
-2025-11-12 16:32:21
-2025-11-12 16:32:21
-2025-11-12 16:32:21
-2025-11-12 16:32:21
-2025-11-12 16:32:21
-2025-11-12 16:32:21
-2025-11-12 16:32:21
-2025-11-12 16:32:21
-2025-11-12 16:32:21
-2025-11-12 16:32:21
-2025-11-12 16:32:21
-2025-11-12 16:32:22
-2025-11-12 16:32:22
-2025-11-12 16:32:22
-2025-11-12 16:32:22
-2025-11-12 16:32:22
-2025-11-12 16:32:22
-2025-11-12 16:32:22
-2025-11-12 16:32:22
-2025-11-12 16:32:22
-2025-11-12 16:32:22
-2025-11-12 16:32:22
-2025-11-12 16:32:22
-2025-11-12 16:32:22
-2025-11-12 16:32:21
-2025-11-12 16:32:21
-2025-11-12 16:32:21
-2025-11-12 16:32:21
-2025-11-12 16:32:21
-2025-11-12 16:32:21
-2025-11-12 16:32:21
-2025-11-12 16:32:21
-2025-11-12 16:32:22
-2025-11-12 16:32:22
-2025-11-12 16:32:22
-2025-11-12 16:32:22
-2025-11-12 16:32:22
-2025-11-12 16:32:22
-2025-11-12 16:32:22
-2025-11-12 16:32:22
-2025-11-12 16:32:22
-2025-11-12 16:32:22
-2025-11-12 16:32:22
-2025-11-12 16:32:22
-2025-11-12 16:32:22
-2025-11-12 16:32:22
-2025-10-23 15:30:23
-2025-10-23 15:30:23
-2025-11-12 16:32:22
-2025-11-12 16:32:22
-2025-11-12 16:32:22
-2025-11-12 16:32:22
-2025-11-12 16:32:22
-2025-11-12 16:32:22
-2025-11-12 16:32:22
-2025-11-12 16:32:22
-2025-11-12 16:32:22
-2025-11-12 16:32:22
-2025-11-12 16:32:22
-2025-11-12 16:32:22
-2025-11-12 16:32:22
-2025-11-12 16:32:22
-2025-11-12 16:32:22
-2025-11-12 16:32:22
-2025-11-12 16:32:22
-2025-10-23 15:30:23
-2025-11-12 16:32:22
-2025-11-12 16:32:22
-2025-11-12 16:32:22
-2025-11-12 16:32:22
-2025-11-12 16:32:22
-2025-11-12 16:32:22
-2025-11-12 16:32:22
-2025-11-12 16:32:22
-2025-11-12 16:32:22
-2025-11-12 16:32:22
-2025-11-12 16:32:22
-2025-11-12 16:32:22
-2025-11-12 16:32:22
-2025-11-12 16:32:22
-2025-11-12 16:32:22
-2025-11-12 16:32:22
-2025-11-12 16:32:22
-2025-11-12 16:32:22
-2025-11-12 16:32:22
-2025-11-12 16:32:23
-2025-11-12 16:32:23
-2025-11-12 16:32:23
-2025-11-12 16:32:23
-2025-10-23 15:30:23
-2025-11-12 16:32:23
-2025-11-12 16:32:23
-2025-11-12 16:32:23
-2025-11-12 16:32:23
-2025-11-12 16:32:23
-2025-11-12 16:32:23
-2025-11-12 16:32:23
-2025-11-12 16:32:23
-2025-11-12 16:32:23
-2025-11-12 16:32:23
-2025-11-12 16:32:23
-2025-11-12 16:32:23
-2025-11-12 16:32:23
-2025-11-12 16:32:23
-2025-11-12 16:32:23
-2025-11-12 16:32:23
-2025-11-12 16:32:23
-2025-11-12 16:32:23
-2025-11-12 16:32:23
-2025-11-12 16:32:23
-2025-11-12 16:32:23
-2025-11-12 16:32:23
-2025-11-12 16:32:23
-2025-11-12 16:32:23
-2025-11-12 16:32:23
-2025-11-12 16:32:23
-2025-11-12 16:32:23
-2025-11-12 16:32:23
-2025-11-12 16:32:23
-2025-11-12 16:32:23
-2025-11-12 16:32:23
-2025-11-12 16:32:23
-2025-11-12 16:32:23
-2025-11-12 16:32:24
-2025-11-12 16:32:24
-2025-11-12 16:32:24
-2025-11-12 16:32:23
-2025-11-12 16:32:23
-2025-11-12 16:32:24
-2025-11-12 16:32:24
-2025-11-12 16:32:24
-2025-11-12 16:32:24
-2025-11-12 16:32:24
-2025-11-12 16:32:24
-2025-11-12 16:32:24
-2025-11-12 16:32:24
-2025-11-12 16:32:24
-2025-11-12 16:32:24
-2025-11-12 16:32:24
-2025-11-12 16:32:24
-2025-11-12 16:32:24
-2025-11-12 16:32:24
-2025-11-12 16:32:24
-2025-11-12 16:32:24
-2025-11-12 16:32:24
-2025-11-12 16:32:24
-2025-11-12 16:32:24
-2025-11-12 16:32:24
-2025-11-12 16:32:24
-2025-11-12 16:32:24
-2025-11-12 16:32:24
-2025-11-12 16:32:24
-2025-11-12 16:32:24
-2025-11-12 16:32:24
-2025-11-12 16:32:24
-2025-11-12 16:32:25
-2025-11-12 16:32:25
-2025-11-12 16:32:25
-2025-11-12 16:32:25
-2025-11-12 16:32:25
-2025-11-12 16:32:24
-2025-11-12 16:32:25
-2025-11-12 16:32:24
-2025-11-12 16:32:24
-2025-11-12 16:32:24
-2025-11-12 16:32:24
-2025-11-12 16:32:24
-2025-11-12 16:32:24
-2025-11-12 16:32:24
-2025-11-12 16:32:24
-2025-11-12 16:32:24
-2025-11-12 16:32:24
-2025-11-12 16:32:24
-2025-11-12 16:32:24
-2025-11-12 16:32:24
-2025-11-12 16:32:24
-2025-11-12 16:32:24
-2025-11-12 16:32:24
-2025-11-12 16:32:24
-2025-11-12 16:32:25
-2025-11-12 16:32:25
-2025-11-12 16:32:25
-2025-11-12 16:32:25
-2025-11-12 16:32:25
-2025-11-12 16:32:25
-2025-11-12 16:32:25
-2025-11-12 16:32:25
-2025-11-12 16:32:25
-2025-11-12 16:32:25
-2025-11-12 16:32:25
-2025-11-12 16:32:25
-2025-11-12 16:32:25
-2025-11-12 16:32:25
-2025-11-12 16:32:25
-2025-11-12 16:32:25
-2025-11-12 16:32:25
-2025-11-12 16:32:25
-2025-11-12 16:32:25
-2025-11-12 16:32:25
-2025-11-12 16:32:25
-2025-11-12 16:32:25
-2025-11-12 16:32:25
-2025-11-12 16:32:25
-2025-11-12 16:32:25
-2025-11-12 16:32:25
-2025-11-12 16:32:25
-2025-11-12 16:32:25
-2025-11-12 16:32:25
-2025-11-12 16:32:25
-2025-11-12 16:32:25
-2025-11-12 16:32:25
-2025-11-12 16:32:25
-2025-11-12 16:32:26
-2025-11-12 16:32:26
-2025-11-12 16:32:26
-2025-11-12 16:32:26
-2025-11-12 16:32:26
-2025-11-12 16:32:26
-2025-11-12 16:32:26
-2025-11-12 16:32:26
-2025-11-12 16:32:26
-2025-11-12 16:32:26
-2025-11-12 16:32:26
-2025-11-12 16:32:26
-2025-11-12 16:32:26
-2025-11-12 16:32:26
-2025-11-12 16:32:26
-2025-11-12 16:32:26
-2025-11-12 16:32:26
-2025-11-12 16:32:26
-2025-11-12 16:32:26
-2025-11-12 16:32:26
-2025-11-12 16:32:26
-2025-11-12 16:32:26
-2025-11-12 16:32:26
-2025-11-12 16:32:26
-2025-11-12 16:32:26
-2025-10-23 15:30:25
-2025-11-12 16:32:26
-2025-11-12 16:32:26
-2025-11-12 16:32:26
-2025-11-12 16:32:26
-2025-11-12 16:32:26
-2025-11-12 16:32:26
-2025-11-12 16:32:26
-2025-11-12 16:32:26
-2025-11-12 16:32:26
-2025-11-12 16:32:26
-2025-11-12 16:32:26
-2025-11-12 16:32:26
-2025-11-12 16:32:26
-2025-11-12 16:32:26
-2025-11-12 16:32:26
-2025-11-12 16:32:26
-2025-11-12 16:32:26
-2025-11-12 16:32:26
-2025-11-12 16:32:26
-2025-11-12 16:32:26
-2025-11-12 16:32:26
-2025-11-12 16:32:26
-2025-11-12 16:32:26
-2025-11-12 16:32:26
-2025-11-12 16:32:27
-2025-11-12 16:32:26
-2025-11-12 16:32:27
-2025-11-12 16:32:26
-2025-11-12 16:32:27
-2025-11-12 16:32:27
-2025-11-12 16:32:27
-2025-11-12 16:32:27
-2025-11-12 16:32:27
-2025-11-12 16:32:27
-2025-11-12 16:32:27
-2025-11-12 16:32:27
-2025-11-12 16:32:27
-2025-11-12 16:32:27
-2025-11-12 16:32:27
-2025-11-12 16:32:27
-2025-11-12 16:32:27
-2025-10-23 15:30:25
-2025-11-12 16:32:27
-2025-11-12 16:32:27
-2025-11-12 16:32:27
-2025-11-12 16:32:29
-2025-11-12 16:32:29
-2025-11-12 16:32:27
-2025-11-12 16:32:27
-2025-11-12 16:32:27
-2025-11-12 16:32:27
-2025-11-12 16:32:27
-2025-11-12 16:32:27
-2025-11-12 16:32:27
-2025-11-12 16:32:27
-2025-11-12 16:32:27
-2025-11-12 16:32:27
-2025-11-12 16:32:27
-2025-11-12 16:32:27
-2025-11-12 16:32:27
-2025-11-12 16:32:27
-2025-11-12 16:32:27
-2025-11-12 16:32:27
-2025-11-12 16:32:27
-2025-11-12 16:32:27
-2025-11-12 16:32:27
-2025-11-12 16:32:27
-2025-11-12 16:32:28
-2025-11-12 16:32:28
-2025-11-12 16:32:28
-2025-11-12 16:32:28
-2025-11-12 16:32:28
-2025-11-12 16:32:28
-2025-11-12 16:32:28
-2025-11-12 16:32:28
-2025-11-12 16:32:28
-2025-11-12 16:32:28
-2025-11-12 16:32:28
-2025-11-12 16:32:28
-2025-11-12 16:32:28
-2025-11-12 16:32:28
-2025-11-12 16:32:28
-2025-11-12 16:32:28
-2025-11-12 16:32:28
-2025-11-12 16:32:28
-2025-11-12 16:32:28
-2025-11-12 16:32:28
-2025-11-12 16:32:28
-2025-11-12 16:32:28
-2025-11-12 16:32:28
-2025-11-12 16:32:28
-2025-11-12 16:32:28
-2025-11-12 16:32:28
-2025-11-12 16:32:28
-2025-11-12 16:32:28
-2025-11-12 16:32:28
-2025-11-12 16:32:28
-2025-11-12 16:32:28
-2025-11-12 16:32:28
-2025-11-12 16:32:28
-2025-11-12 16:32:28
-2025-11-12 16:32:28
-2025-11-12 16:32:28
-2025-11-12 16:32:28
-2025-11-12 16:32:28
-2025-11-12 16:32:28
-2025-11-12 16:32:29
-2025-11-12 16:32:29
-2025-11-12 16:32:29
-2025-11-12 16:32:29
-2025-11-12 16:32:29
-2025-11-12 16:32:29
-2025-11-12 16:32:29
-2025-11-12 16:32:29
-2025-11-12 16:32:29
-2025-11-12 16:32:29
-2025-11-12 16:32:29
-2025-11-12 16:32:29
-2025-11-12 16:32:29
-2025-11-12 16:32:29
-2025-11-12 16:32:29
-2025-11-12 16:32:29
-2025-11-12 16:32:29
-2025-11-12 16:32:29
-2025-11-12 16:32:29
-2025-11-12 16:32:29
-2025-11-12 16:32:29
-2025-11-12 16:32:29
-2025-11-12 16:32:29
-2025-11-12 16:32:29
-2025-10-23 15:30:26
-2025-11-12 16:32:29
-2025-11-12 16:32:29
-2025-11-12 16:32:29
-2025-11-12 16:32:29
-2025-11-12 16:32:29
-2025-11-12 16:32:29
-2025-11-12 16:32:29
-2025-11-12 16:32:29
-2025-11-12 16:32:29
-2025-11-12 16:32:29
-2025-11-12 16:32:29
-2025-11-12 16:32:29
-2025-11-12 16:32:29
-2025-11-12 16:32:30
-2025-11-12 16:32:30
-2025-11-12 16:32:30
-2025-10-23 15:30:27
-2025-11-12 16:32:31
-2025-11-12 16:32:31
-2025-10-23 15:30:27
-2025-11-12 16:32:32
-2025-11-12 16:32:32
-2025-11-12 16:32:32
-2025-11-12 16:32:32
-2025-11-12 16:32:32
-2025-11-12 16:32:29
-2025-11-12 16:32:29
-2025-11-12 16:32:29
-2025-11-12 16:32:29
-2025-11-12 16:32:29
-2025-11-12 16:32:29
-2025-11-12 16:32:30
-2025-11-12 16:32:30
-2025-11-12 16:32:30
-2025-11-12 16:32:30
-2025-11-12 16:32:31
-2025-11-12 16:32:31
-2025-11-12 16:32:31
-2025-11-12 16:32:31
-2025-11-12 16:32:31
-2025-11-12 16:32:31
-2025-11-12 16:32:31
-2025-11-12 16:32:31
-2025-11-12 16:32:31
-2025-11-12 16:32:31
-2025-11-12 16:32:31
-2025-11-12 16:32:31
-2025-11-12 16:32:31
-2025-11-12 16:32:31
-2025-11-12 16:32:31
-2025-11-12 16:32:31
-2025-11-12 16:32:31
-2025-11-12 16:32:31
-2025-11-12 16:32:31
-2025-11-12 16:32:31
-2025-11-12 16:32:31
-2025-11-12 16:32:31
-2025-11-12 16:32:31
-2025-11-12 16:32:31
-2025-11-12 16:32:31
-2025-11-12 16:32:31
-2025-11-12 16:32:31
-2025-11-12 16:32:31
-2025-11-12 16:32:31
-2025-11-12 16:32:31
-2025-11-12 16:32:31
-2025-11-12 16:32:31
-2025-11-12 16:32:31
-2025-11-12 16:32:31
-2025-11-12 16:32:31
-2025-11-12 16:32:32
-2025-11-12 16:32:32
-2025-11-12 16:32:32
-2025-11-12 16:32:32
-2025-11-12 16:32:32
-2025-11-12 16:32:32
-2025-11-12 16:32:32
-2025-11-12 16:32:32
-2025-11-12 16:32:32
-2025-11-12 16:32:32
-2025-11-12 16:32:32
-2025-11-12 16:32:35
-2025-11-12 16:32:35
-2025-11-12 16:32:35
-2025-11-12 16:32:32
-2025-11-12 16:32:32
-2025-11-12 16:32:32
-2025-11-12 16:32:32
-2025-11-12 16:32:32
-2025-11-12 16:32:32
-2025-11-12 16:32:32
-2025-11-12 16:32:32
-2025-11-12 16:32:32
-2025-11-12 16:32:33
-2025-11-12 16:32:33
-2025-11-12 16:32:33
-2025-11-12 16:32:33
-2025-11-12 16:32:33
-2025-11-12 16:32:33
-2025-11-12 16:32:33
-2025-11-12 16:32:33
-2025-11-12 16:32:33
-2025-11-12 16:32:33
-2025-11-12 16:32:33
-2025-11-12 16:32:33
-2025-11-12 16:32:33
-2025-11-12 16:32:33
-2025-11-12 16:32:33
-2025-11-12 16:32:33
-2025-11-12 16:32:33
-2025-11-12 16:32:33
-2025-11-12 16:32:33
-2025-11-12 16:32:33
-2025-11-12 16:32:33
-2025-11-12 16:32:33
-2025-11-12 16:32:33
-2025-11-12 16:32:33
-2025-11-12 16:32:33
-2025-11-12 16:32:33
-2025-11-12 16:32:33
-2025-11-12 16:32:33
-2025-11-12 16:32:33
-2025-11-12 16:32:33
-2025-11-12 16:32:33
-2025-11-12 16:32:33
-2025-11-12 16:32:33
-2025-11-12 16:32:33
-2025-11-12 16:32:32
-2025-11-12 16:32:32
-2025-11-12 16:32:32
-2025-11-12 16:32:32
-2025-11-12 16:32:32
-2025-11-12 16:32:33
-2025-11-12 16:32:33
-2025-11-12 16:32:33
-2025-11-12 16:32:33
-2025-11-12 16:32:33
-2025-11-12 16:32:33
-2025-11-12 16:32:33
-2025-11-12 16:32:33
-2025-11-12 16:32:33
-2025-11-12 16:32:33
-2025-11-12 16:32:33
-2025-11-12 16:32:33
-2025-11-12 16:32:33
-2025-11-12 16:32:33
-2025-11-12 16:32:33
-2025-11-12 16:32:33
-2025-11-12 16:32:33
-2025-11-12 16:32:33
-2025-11-12 16:32:33
-2025-11-12 16:32:33
-2025-11-12 16:32:33
-2025-11-12 16:32:33
-2025-11-12 16:32:33
-2025-11-12 16:32:34
-2025-11-12 16:32:34
-2025-11-12 16:32:34
-2025-11-12 16:32:34
-2025-10-23 15:30:28
-2025-10-23 15:30:28
-2025-11-12 16:32:34
-2025-11-12 16:32:34
-2025-11-12 16:32:34
-2025-10-23 15:30:28
-2025-11-12 16:32:34
-2025-11-12 16:32:34
-2025-11-12 16:32:34
-2025-11-12 16:32:34
-2025-11-12 16:32:34
-2025-11-12 16:32:34
-2025-11-12 16:32:34
-2025-11-12 16:32:34
-2025-11-12 16:32:34
-2025-11-12 16:32:34
-2025-11-12 16:32:34
-2025-11-12 16:32:34
-2025-11-12 16:32:34
-2025-11-12 16:32:34
-2025-11-12 16:32:34
-2025-11-12 16:32:34
-2025-11-12 16:32:34
-2025-11-12 16:32:34
-2025-11-12 16:32:34
-2025-11-12 16:32:34
-2025-11-12 16:32:34
-2025-11-12 16:32:34
-2025-11-12 16:32:34
-2025-11-12 16:32:34
-2025-11-12 16:32:34
-2025-11-12 16:32:34
-2025-11-12 16:32:34
-2025-11-12 16:32:34
-2025-11-12 16:32:34
-2025-11-12 16:32:34
-2025-11-12 16:32:34
-2025-11-12 16:32:34
-2025-11-12 16:32:34
-2025-11-12 16:32:34
-2025-11-12 16:32:34
-2025-11-12 16:32:34
-2025-11-12 16:32:34
-2025-11-12 16:32:34
-2025-11-12 16:32:34
-2025-11-12 16:32:34
-2025-11-12 16:32:34
-2025-11-12 16:32:34
-2025-11-12 16:32:35
-2025-11-12 16:32:34
-2025-11-12 16:32:34
-2025-11-12 16:32:35
-2025-11-12 16:32:35
-2025-11-12 16:32:35
-2025-11-12 16:32:35
-2025-11-12 16:32:35
-2025-11-12 16:32:35
-2025-11-12 16:32:35
-2025-11-12 16:32:35
-2025-11-12 16:32:35
-2025-11-12 16:32:35
-2025-11-12 16:32:35
-2025-11-12 16:32:35
-2025-11-12 16:32:35
-2025-11-12 16:32:35
-2025-11-12 16:32:35
-2025-11-12 16:32:35
-2025-11-12 16:32:35
-2025-11-12 16:32:35
-2025-11-12 16:32:35
-2025-11-12 16:32:35
-2025-11-12 16:32:35
-2025-11-12 16:32:35
-2025-11-12 16:32:35
-2025-11-12 16:32:35
-2025-11-12 16:32:35
-2025-11-12 16:32:35
-2025-11-12 16:32:35
-2025-11-12 16:32:35
-2025-11-12 16:32:35
-2025-11-12 16:32:35
-2025-11-12 16:32:35
-2025-11-12 16:32:35
-2025-11-12 16:32:35
-2025-11-12 16:32:35
-2025-11-12 16:32:35
-2025-11-12 16:32:35
-2025-11-12 16:32:35
-2025-11-12 16:32:35
-2025-11-12 16:32:35
-2025-11-12 16:32:35
-2025-11-12 16:32:35
-2025-11-12 16:32:35
-2025-11-12 16:32:35
-2025-11-12 16:32:35
-2025-11-12 16:32:35
-2025-11-12 16:32:36
-2025-11-12 16:32:36
-2025-11-12 16:32:36
-2025-11-12 16:32:36
-2025-11-12 16:32:36
-2025-11-12 16:32:36
-2025-11-12 16:32:36
-2025-11-12 16:32:36
-2025-11-12 16:32:36
-2025-11-12 16:32:36
-2025-11-12 16:32:36
-2025-11-12 16:32:37
-2025-11-12 16:32:37
-2025-11-12 16:32:36
-2025-11-12 16:32:36
-2025-11-12 16:32:36
-2025-11-12 16:32:36
-2025-11-12 16:32:36
-2025-11-12 16:32:36
-2025-11-12 16:32:36
-2025-11-12 16:32:36
-2025-11-12 16:32:36
-2025-11-12 16:32:36
-2025-11-12 16:32:36
-2025-11-12 16:32:36
-2025-11-12 16:32:36
-2025-11-12 16:32:36
-2025-11-12 16:32:36
-2025-11-12 16:32:36
-2025-11-12 16:32:36
-2025-11-12 16:32:36
-2025-11-12 16:32:36
-2025-11-12 16:32:36
-2025-11-12 16:32:36
-2025-11-12 16:32:36
-2025-11-12 16:32:36
-2025-11-12 16:32:36
-2025-11-12 16:32:36
-2025-11-12 16:32:36
-2025-11-12 16:32:36
-2025-11-12 16:32:36
-2025-11-12 16:32:36
-2025-11-12 16:32:36
-2025-11-12 16:32:36
-2025-11-12 16:32:36
-2025-11-12 16:32:36
-2025-11-12 16:32:36
-2025-11-12 16:32:36
-2025-11-12 16:32:36
-2025-11-12 16:32:36
-2025-11-12 16:32:36
-2025-11-12 16:32:36
-2025-10-23 15:30:29
-2025-11-12 16:32:36
-2025-11-12 16:32:36
-2025-11-12 16:32:36
-2025-11-12 16:32:36
-2025-11-12 16:32:36
-2025-11-12 16:32:36
-2025-11-12 16:32:36
-2025-11-12 16:32:37
-2025-11-12 16:32:37
-2025-11-12 16:32:37
-2025-11-12 16:32:37
-2025-11-12 16:32:37
-2025-11-12 16:32:37
-2025-11-12 16:32:37
-2025-11-12 16:32:37
-2025-11-12 16:32:37
-2025-11-12 16:32:37
-2025-11-12 16:32:37
-2025-11-12 16:32:37
-2025-11-12 16:32:37
-2025-11-12 16:32:37
-2025-11-12 16:32:37
-2025-11-12 16:32:37
-2025-11-12 16:32:37
-2025-11-12 16:32:37
-2025-11-12 16:32:37
-2025-11-12 16:32:37
-2025-11-12 16:32:37
-2025-11-12 16:32:37
-2025-11-12 16:32:37
-2025-11-12 16:32:37
-2025-11-12 16:32:37
-2025-11-12 16:32:37
-2025-11-12 16:32:37
-2025-11-12 16:32:37
-2025-11-12 16:32:37
-2025-11-12 16:32:37
-2025-11-12 16:32:37
-2025-11-12 16:32:37
-2025-11-12 16:32:37
-2025-11-12 16:32:37
-2025-11-12 16:32:37
-2025-11-12 16:32:37
-2025-11-12 16:32:37
-2025-11-12 16:32:37
-2025-11-12 16:32:37
-2025-11-12 16:32:37
-2025-11-12 16:32:37
-2025-11-12 16:32:37
-2025-11-12 16:32:37
-2025-11-12 16:32:37
-2025-11-12 16:32:37
-2025-11-12 16:32:37
-2025-11-12 16:32:37
-2025-11-12 16:32:37
7.1 KiB2025-11-12 16:32:01
7.1 KiB2025-11-12 16:32:01
7.0 KiB2025-11-12 16:32:01
221.1 KiB2025-11-12 16:32:00
2.6 KiB2025-11-12 16:32:01
150.6 KiB2025-11-12 16:32:00
3.3 KiB2025-11-12 16:32:01
1.3 MiB2025-11-12 16:32:38
3.0 MiB2025-11-12 16:32:39
238.4 KiB2025-11-12 16:32:00
7.5 KiB2025-11-12 16:32:01
528.5 KiB2025-11-12 16:32:01
389.5 KiB2025-11-12 16:32:00
11.9 KiB2025-11-12 16:32:01
6.0 KiB2025-11-12 16:32:01
24.2 MiB2025-11-12 16:33:01
19 B2025-11-12 16:32:00