Package: variants Version: 1.33.1 Command: /Library/Frameworks/R.framework/Resources/bin/R CMD INSTALL variants StartedAt: 2025-10-07 13:00:25 -0400 (Tue, 07 Oct 2025) EndedAt: 2025-10-07 13:00:46 -0400 (Tue, 07 Oct 2025) EllapsedTime: 20.6 seconds RetCode: 0 Status: OK