Package: variants Version: 1.33.1 Command: /Library/Frameworks/R.framework/Resources/bin/R CMD build --keep-empty-dirs --no-resave-data variants StartedAt: 2025-10-07 13:10:38 -0400 (Tue, 07 Oct 2025) EndedAt: 2025-10-07 13:11:46 -0400 (Tue, 07 Oct 2025) EllapsedTime: 68.1 seconds RetCode: 0 Status: OK PackageFile: variants_1.33.1.tar.gz PackageFileSize: 4.84 MiB