Package: spicyWorkflow Version: 1.9.1 Command: /Library/Frameworks/R.framework/Resources/bin/R CMD INSTALL spicyWorkflow StartedAt: 2025-10-14 13:00:18 -0400 (Tue, 14 Oct 2025) EndedAt: 2025-10-14 13:00:26 -0400 (Tue, 14 Oct 2025) EllapsedTime: 7.7 seconds RetCode: 0 Status: OK