Package: spicyWorkflow Version: 1.9.1 Command: /Library/Frameworks/R.framework/Resources/bin/R CMD build --keep-empty-dirs --no-resave-data spicyWorkflow StartedAt: 2025-10-14 13:10:44 -0400 (Tue, 14 Oct 2025) EndedAt: 2025-10-14 13:39:06 -0400 (Tue, 14 Oct 2025) EllapsedTime: 1702.1 seconds RetCode: 0 Status: OK PackageFile: spicyWorkflow_1.9.1.tar.gz PackageFileSize: 245 MiB