Package: spicyWorkflow Version: 1.9.1 Maintainer: SOMS Maintainer MaintainerEmail: maths.bioconductor at sydney.edu.au git_url: https://git.bioconductor.org/packages/spicyWorkflow git_branch: devel git_last_commit: b218128 git_last_commit_date: 2025-10-03 07:20:37 -0400 (Fri, 03 Oct 2025)