Package: simpleSingleCell Version: 1.33.0 Command: /Library/Frameworks/R.framework/Resources/bin/R CMD INSTALL simpleSingleCell StartedAt: 2025-10-07 13:00:20 -0400 (Tue, 07 Oct 2025) EndedAt: 2025-10-07 13:00:25 -0400 (Tue, 07 Oct 2025) EllapsedTime: 4.8 seconds RetCode: 0 Status: OK