Package: simpleSingleCell Version: 1.33.0 Command: /Library/Frameworks/R.framework/Resources/bin/R CMD build --keep-empty-dirs --no-resave-data simpleSingleCell StartedAt: 2025-10-07 13:09:31 -0400 (Tue, 07 Oct 2025) EndedAt: 2025-10-07 13:10:04 -0400 (Tue, 07 Oct 2025) EllapsedTime: 33.0 seconds RetCode: 0 Status: OK PackageFile: simpleSingleCell_1.33.0.tar.gz PackageFileSize: 2.741 MiB