Package: seqpac Version: 1.10.0 Command: /Library/Frameworks/R.framework/Resources/bin/R CMD build --keep-empty-dirs --no-resave-data seqpac StartedAt: 2025-11-04 13:10:20 -0500 (Tue, 04 Nov 2025) EndedAt: 2025-11-04 13:13:15 -0500 (Tue, 04 Nov 2025) EllapsedTime: 174.5 seconds RetCode: 0 Status: OK PackageFile: seqpac_1.10.0.tar.gz PackageFileSize: 3.075 MiB