Package: rnaseqGene Version: 1.33.0 Command: /Library/Frameworks/R.framework/Resources/bin/R CMD build --keep-empty-dirs --no-resave-data rnaseqGene StartedAt: 2025-10-28 13:08:36 -0400 (Tue, 28 Oct 2025) EndedAt: 2025-10-28 13:10:57 -0400 (Tue, 28 Oct 2025) EllapsedTime: 141.1 seconds RetCode: 0 Status: OK PackageFile: rnaseqGene_1.33.0.tar.gz PackageFileSize: 1.803 MiB