Package: rnaseqDTU Version: 1.29.0 Command: /Library/Frameworks/R.framework/Resources/bin/R CMD build --keep-empty-dirs --no-resave-data rnaseqDTU StartedAt: 2025-10-14 13:07:37 -0400 (Tue, 14 Oct 2025) EndedAt: 2025-10-14 13:09:31 -0400 (Tue, 14 Oct 2025) EllapsedTime: 114.0 seconds RetCode: 0 Status: OK PackageFile: rnaseqDTU_1.29.0.tar.gz PackageFileSize: 8.758 MiB