Package: recountWorkflow Version: 1.33.0 Command: /Library/Frameworks/R.framework/Resources/bin/R CMD INSTALL recountWorkflow StartedAt: 2025-09-30 13:00:46 -0400 (Tue, 30 Sep 2025) EndedAt: 2025-09-30 13:01:34 -0400 (Tue, 30 Sep 2025) EllapsedTime: 47.9 seconds RetCode: 0 Status: OK