Package: recountWorkflow Version: 1.33.0 Command: /Library/Frameworks/R.framework/Resources/bin/R CMD build --keep-empty-dirs --no-resave-data recountWorkflow StartedAt: 2025-09-30 13:06:50 -0400 (Tue, 30 Sep 2025) EndedAt: 2025-09-30 13:20:36 -0400 (Tue, 30 Sep 2025) EllapsedTime: 826.0 seconds RetCode: 0 Status: OK PackageFile: recountWorkflow_1.33.0.tar.gz PackageFileSize: 4.649 MiB