Package: maEndToEnd Version: 2.29.0 Command: /Library/Frameworks/R.framework/Resources/bin/R CMD INSTALL maEndToEnd StartedAt: 2025-10-07 13:00:52 -0400 (Tue, 07 Oct 2025) EndedAt: 2025-10-07 13:01:19 -0400 (Tue, 07 Oct 2025) EllapsedTime: 26.9 seconds RetCode: 0 Status: OK