Package: maEndToEnd Version: 2.29.0 Command: /Library/Frameworks/R.framework/Resources/bin/R CMD build --keep-empty-dirs --no-resave-data maEndToEnd StartedAt: 2025-10-07 13:04:47 -0400 (Tue, 07 Oct 2025) EndedAt: 2025-10-07 13:16:52 -0400 (Tue, 07 Oct 2025) EllapsedTime: 725.8 seconds RetCode: 0 Status: OK PackageFile: maEndToEnd_2.29.0.tar.gz PackageFileSize: 4.596 MiB