Package: generegulation Version: 1.34.0 Command: /Library/Frameworks/R.framework/Resources/bin/R CMD build --keep-empty-dirs --no-resave-data generegulation StartedAt: 2025-11-04 13:04:52 -0500 (Tue, 04 Nov 2025) EndedAt: 2025-11-04 13:05:48 -0500 (Tue, 04 Nov 2025) EllapsedTime: 56.7 seconds RetCode: 0 Status: OK PackageFile: generegulation_1.34.0.tar.gz PackageFileSize: 1.514 MiB