Package: fluentGenomics Version: 1.21.0 Command: /Library/Frameworks/R.framework/Resources/bin/R CMD build --keep-empty-dirs --no-resave-data fluentGenomics StartedAt: 2025-10-14 13:03:49 -0400 (Tue, 14 Oct 2025) EndedAt: 2025-10-14 13:06:48 -0400 (Tue, 14 Oct 2025) EllapsedTime: 178.9 seconds RetCode: 0 Status: OK PackageFile: fluentGenomics_1.21.0.tar.gz PackageFileSize: 5.489 MiB