Package: RnaSeqGeneEdgeRQL Version: 1.33.1 Command: /Library/Frameworks/R.framework/Resources/bin/R CMD INSTALL RnaSeqGeneEdgeRQL StartedAt: 2025-10-07 13:00:22 -0400 (Tue, 07 Oct 2025) EndedAt: 2025-10-07 13:00:30 -0400 (Tue, 07 Oct 2025) EllapsedTime: 8.0 seconds RetCode: 0 Status: OK