Package: RnaSeqGeneEdgeRQL Version: 1.33.1 Command: /Library/Frameworks/R.framework/Resources/bin/R CMD build --keep-empty-dirs --no-resave-data RnaSeqGeneEdgeRQL StartedAt: 2025-10-07 13:08:48 -0400 (Tue, 07 Oct 2025) EndedAt: 2025-10-07 13:10:00 -0400 (Tue, 07 Oct 2025) EllapsedTime: 72.9 seconds RetCode: 0 Status: OK PackageFile: RnaSeqGeneEdgeRQL_1.33.1.tar.gz PackageFileSize: 2.561 MiB