Package: RnaSeqGeneEdgeRQL Version: 1.33.1 Maintainer: Yunshun Chen MaintainerEmail: yuchen at wehi.edu.au git_url: https://git.bioconductor.org/packages/RnaSeqGeneEdgeRQL git_branch: devel git_last_commit: c274e0a git_last_commit_date: 2025-09-10 23:26:33 -0400 (Wed, 10 Sep 2025)