Package: RNAseq123 Version: 1.33.0 Command: /Library/Frameworks/R.framework/Resources/bin/R CMD INSTALL RNAseq123 StartedAt: 2025-10-07 13:01:02 -0400 (Tue, 07 Oct 2025) EndedAt: 2025-10-07 13:01:24 -0400 (Tue, 07 Oct 2025) EllapsedTime: 22.4 seconds RetCode: 0 Status: OK