Package: RNAseq123 Version: 1.33.0 Command: /Library/Frameworks/R.framework/Resources/bin/R CMD build --keep-empty-dirs --no-resave-data RNAseq123 StartedAt: 2025-10-07 13:07:25 -0400 (Tue, 07 Oct 2025) EndedAt: 2025-10-07 13:09:00 -0400 (Tue, 07 Oct 2025) EllapsedTime: 95.3 seconds RetCode: 0 Status: OK PackageFile: RNAseq123_1.33.0.tar.gz PackageFileSize: 7.252 MiB