Package: CAGEWorkflow Version: 1.25.0 Command: /Library/Frameworks/R.framework/Resources/bin/R CMD INSTALL CAGEWorkflow StartedAt: 2025-10-28 13:00:37 -0400 (Tue, 28 Oct 2025) EndedAt: 2025-10-28 13:01:03 -0400 (Tue, 28 Oct 2025) EllapsedTime: 26.2 seconds RetCode: 0 Status: OK