Package: BP4RNAseq Version: 1.19.0 Command: /Library/Frameworks/R.framework/Resources/bin/R CMD build --keep-empty-dirs --no-resave-data BP4RNAseq StartedAt: 2025-10-21 13:03:48 -0400 (Tue, 21 Oct 2025) EndedAt: 2025-10-21 13:04:00 -0400 (Tue, 21 Oct 2025) EllapsedTime: 11.4 seconds RetCode: 0 Status: OK PackageFile: BP4RNAseq_1.19.0.tar.gz PackageFileSize: 3.037 MiB