Package: yeastRNASeq Version: 0.47.0 Command: /home/biocbuild/bbs-3.22-bioc/R/bin/R CMD check --install=check:yeastRNASeq.install-out.txt --library=/home/biocbuild/bbs-3.22-bioc/R/site-library --timings yeastRNASeq_0.47.0.tar.gz StartedAt: 2025-10-28 13:19:59 -0400 (Tue, 28 Oct 2025) EndedAt: 2025-10-28 13:24:48 -0400 (Tue, 28 Oct 2025) EllapsedTime: 288.9 seconds RetCode: 0 Status: WARNINGS CheckDir: yeastRNASeq.Rcheck Warnings: 1