Package: yeastNagalakshmi Version: 1.45.0 Command: /home/biocbuild/bbs-3.22-bioc/R/bin/R CMD build --keep-empty-dirs --no-resave-data yeastNagalakshmi StartedAt: 2025-10-21 11:49:47 -0400 (Tue, 21 Oct 2025) EndedAt: 2025-10-21 11:49:50 -0400 (Tue, 21 Oct 2025) EllapsedTime: 3.3 seconds RetCode: 0 Status: OK PackageFile: yeastNagalakshmi_1.45.0.tar.gz PackageFileSize: 14.33 MiB