Package: yeastGSData Version: 0.47.0 Command: /home/biocbuild/bbs-3.22-bioc/R/bin/R CMD check --install=check:yeastGSData.install-out.txt --library=/home/biocbuild/bbs-3.22-bioc/R/site-library --timings yeastGSData_0.47.0.tar.gz StartedAt: 2025-10-16 13:18:45 -0400 (Thu, 16 Oct 2025) EndedAt: 2025-10-16 13:20:24 -0400 (Thu, 16 Oct 2025) EllapsedTime: 99.1 seconds RetCode: 0 Status: WARNINGS CheckDir: yeastGSData.Rcheck Warnings: 1