Package: yeastCC Version: 1.49.0 Command: /home/biocbuild/bbs-3.22-bioc/R/bin/R CMD check --install=check:yeastCC.install-out.txt --library=/home/biocbuild/bbs-3.22-bioc/R/site-library --timings yeastCC_1.49.0.tar.gz StartedAt: 2025-10-28 13:19:27 -0400 (Tue, 28 Oct 2025) EndedAt: 2025-10-28 13:19:57 -0400 (Tue, 28 Oct 2025) EllapsedTime: 29.7 seconds RetCode: 0 Status: WARNINGS CheckDir: yeastCC.Rcheck Warnings: 2